BEGIN:VCALENDAR
VERSION:2.0
PRODID:-//Gum Branch Baptist Church - ECPv6.15.1//NONSGML v1.0//EN
CALSCALE:GREGORIAN
METHOD:PUBLISH
X-WR-CALNAME:Gum Branch Baptist Church
X-ORIGINAL-URL:https://gumbranch.org
X-WR-CALDESC:Events for Gum Branch Baptist Church
REFRESH-INTERVAL;VALUE=DURATION:PT1H
X-Robots-Tag:noindex
X-PUBLISHED-TTL:PT1H
BEGIN:VTIMEZONE
TZID:America/New_York
BEGIN:DAYLIGHT
TZOFFSETFROM:-0500
TZOFFSETTO:-0400
TZNAME:EDT
DTSTART:20260308T070000
END:DAYLIGHT
BEGIN:STANDARD
TZOFFSETFROM:-0400
TZOFFSETTO:-0500
TZNAME:EST
DTSTART:20261101T060000
END:STANDARD
END:VTIMEZONE
BEGIN:VEVENT
DTSTART;TZID=America/New_York:20260311T173000
DTEND;TZID=America/New_York:20260311T182000
DTSTAMP:20260420T004127
CREATED:20260225T193332Z
LAST-MODIFIED:20260225T193332Z
UID:3840-1773250200-1773253200@gumbranch.org
SUMMARY:Wednesday Meal
DESCRIPTION:Share this:\n				Click to share on X (Opens in new window)\n				X\n			\n				Click to share on Facebook (Opens in new window)\n				Facebook
URL:https://gumbranch.org/event/wednesday-meal-29/
END:VEVENT
BEGIN:VEVENT
DTSTART;TZID=America/New_York:20260311T100000
DTEND;TZID=America/New_York:20260311T120000
DTSTAMP:20260420T004127
CREATED:20260225T193251Z
LAST-MODIFIED:20260225T193251Z
UID:3839-1773223200-1773230400@gumbranch.org
SUMMARY:Ladies Bible Study
DESCRIPTION:Share this:\n				Click to share on X (Opens in new window)\n				X\n			\n				Click to share on Facebook (Opens in new window)\n				Facebook
URL:https://gumbranch.org/event/ladies-bible-study-30/
END:VEVENT
BEGIN:VEVENT
DTSTART;TZID=America/New_York:20260310T063000
DTEND;TZID=America/New_York:20260310T073000
DTSTAMP:20260420T004127
CREATED:20260225T193218Z
LAST-MODIFIED:20260225T193218Z
UID:3838-1773124200-1773127800@gumbranch.org
SUMMARY:Men's Prayer Breakfast
DESCRIPTION:Share this:\n				Click to share on X (Opens in new window)\n				X\n			\n				Click to share on Facebook (Opens in new window)\n				Facebook
URL:https://gumbranch.org/event/mens-prayer-breakfast-87/
END:VEVENT
BEGIN:VEVENT
DTSTART;TZID=America/New_York:20260308T170000
DTEND;TZID=America/New_York:20260308T180000
DTSTAMP:20260420T004127
CREATED:20260225T193110Z
LAST-MODIFIED:20260225T193110Z
UID:3837-1772989200-1772992800@gumbranch.org
SUMMARY:Evening Worship
DESCRIPTION:Share this:\n				Click to share on X (Opens in new window)\n				X\n			\n				Click to share on Facebook (Opens in new window)\n				Facebook
URL:https://gumbranch.org/event/evening-worship-52/
END:VEVENT
BEGIN:VEVENT
DTSTART;TZID=America/New_York:20260308T153000
DTEND;TZID=America/New_York:20260308T170000
DTSTAMP:20260420T004127
CREATED:20260225T193038Z
LAST-MODIFIED:20260226T184101Z
UID:3836-1772983800-1772989200@gumbranch.org
SUMMARY:Choir Rehearsal
DESCRIPTION:Share this:\n				Click to share on X (Opens in new window)\n				X\n			\n				Click to share on Facebook (Opens in new window)\n				Facebook
URL:https://gumbranch.org/event/choir-rehearsal-75/
END:VEVENT
BEGIN:VEVENT
DTSTART;TZID=America/New_York:20260308T101500
DTEND;TZID=America/New_York:20260308T113000
DTSTAMP:20260420T004127
CREATED:20260225T192954Z
LAST-MODIFIED:20260225T192954Z
UID:3835-1772964900-1772969400@gumbranch.org
SUMMARY:Morning Worship
DESCRIPTION:Share this:\n				Click to share on X (Opens in new window)\n				X\n			\n				Click to share on Facebook (Opens in new window)\n				Facebook
URL:https://gumbranch.org/event/morning-worship-92/
END:VEVENT
BEGIN:VEVENT
DTSTART;TZID=America/New_York:20260308T090000
DTEND;TZID=America/New_York:20260308T100000
DTSTAMP:20260420T004127
CREATED:20260225T192908Z
LAST-MODIFIED:20260225T192908Z
UID:3834-1772960400-1772964000@gumbranch.org
SUMMARY:Bible Study
DESCRIPTION:Share this:\n				Click to share on X (Opens in new window)\n				X\n			\n				Click to share on Facebook (Opens in new window)\n				Facebook
URL:https://gumbranch.org/event/bible-study-94/
END:VEVENT
BEGIN:VEVENT
DTSTART;TZID=America/New_York:20260307T110000
DTEND;TZID=America/New_York:20260307T120000
DTSTAMP:20260420T004127
CREATED:20260225T192818Z
LAST-MODIFIED:20260225T192818Z
UID:3833-1772881200-1772884800@gumbranch.org
SUMMARY:Women's Ministry Potluck Brunch
DESCRIPTION:Share this:\n				Click to share on X (Opens in new window)\n				X\n			\n				Click to share on Facebook (Opens in new window)\n				Facebook
URL:https://gumbranch.org/event/womens-ministry-potluck-brunch/
END:VEVENT
BEGIN:VEVENT
DTSTART;TZID=America/New_York:20260304T183000
DTEND;TZID=America/New_York:20260304T193000
DTSTAMP:20260420T004127
CREATED:20260225T182026Z
LAST-MODIFIED:20260225T182026Z
UID:3831-1772649000-1772652600@gumbranch.org
SUMMARY:Youth & Children's Programs
DESCRIPTION:Share this:\n				Click to share on X (Opens in new window)\n				X\n			\n				Click to share on Facebook (Opens in new window)\n				Facebook
URL:https://gumbranch.org/event/youth-childrens-programs-69/
END:VEVENT
BEGIN:VEVENT
DTSTART;TZID=America/New_York:20260304T183000
DTEND;TZID=America/New_York:20260304T193000
DTSTAMP:20260420T004127
CREATED:20260225T181940Z
LAST-MODIFIED:20260225T181940Z
UID:3830-1772649000-1772652600@gumbranch.org
SUMMARY:Discipleship Training
DESCRIPTION:Share this:\n				Click to share on X (Opens in new window)\n				X\n			\n				Click to share on Facebook (Opens in new window)\n				Facebook
URL:https://gumbranch.org/event/discipleship-training-69/
END:VEVENT
BEGIN:VEVENT
DTSTART;TZID=America/New_York:20260304T183000
DTEND;TZID=America/New_York:20260304T193000
DTSTAMP:20260420T004127
CREATED:20260225T181857Z
LAST-MODIFIED:20260225T181857Z
UID:3829-1772649000-1772652600@gumbranch.org
SUMMARY:Adult Bible Study
DESCRIPTION:Share this:\n				Click to share on X (Opens in new window)\n				X\n			\n				Click to share on Facebook (Opens in new window)\n				Facebook
URL:https://gumbranch.org/event/adult-bible-study-85/
END:VEVENT
BEGIN:VEVENT
DTSTART;TZID=America/New_York:20260304T173000
DTEND;TZID=America/New_York:20260304T182000
DTSTAMP:20260420T004127
CREATED:20260225T181817Z
LAST-MODIFIED:20260225T181817Z
UID:3828-1772645400-1772648400@gumbranch.org
SUMMARY:Wednesday Meal
DESCRIPTION:Share this:\n				Click to share on X (Opens in new window)\n				X\n			\n				Click to share on Facebook (Opens in new window)\n				Facebook
URL:https://gumbranch.org/event/wednesday-meal-28/
END:VEVENT
BEGIN:VEVENT
DTSTART;TZID=America/New_York:20260304T100000
DTEND;TZID=America/New_York:20260304T120000
DTSTAMP:20260420T004127
CREATED:20260225T181717Z
LAST-MODIFIED:20260225T181717Z
UID:3827-1772618400-1772625600@gumbranch.org
SUMMARY:Ladies Bible Study
DESCRIPTION:Share this:\n				Click to share on X (Opens in new window)\n				X\n			\n				Click to share on Facebook (Opens in new window)\n				Facebook
URL:https://gumbranch.org/event/ladies-bible-study-29/
END:VEVENT
BEGIN:VEVENT
DTSTART;TZID=America/New_York:20260303T063000
DTEND;TZID=America/New_York:20260303T073000
DTSTAMP:20260420T004127
CREATED:20260225T181632Z
LAST-MODIFIED:20260225T181632Z
UID:3826-1772519400-1772523000@gumbranch.org
SUMMARY:Men's Prayer Breakfast
DESCRIPTION:Share this:\n				Click to share on X (Opens in new window)\n				X\n			\n				Click to share on Facebook (Opens in new window)\n				Facebook
URL:https://gumbranch.org/event/mens-prayer-breakfast-86/
END:VEVENT
BEGIN:VEVENT
DTSTART;TZID=America/New_York:20260301T170000
DTEND;TZID=America/New_York:20260301T180000
DTSTAMP:20260420T004127
CREATED:20260225T181534Z
LAST-MODIFIED:20260225T181534Z
UID:3825-1772384400-1772388000@gumbranch.org
SUMMARY:Evening Worship
DESCRIPTION:Share this:\n				Click to share on X (Opens in new window)\n				X\n			\n				Click to share on Facebook (Opens in new window)\n				Facebook
URL:https://gumbranch.org/event/evening-worship-51/
END:VEVENT
BEGIN:VEVENT
DTSTART;TZID=America/New_York:20260301T153000
DTEND;TZID=America/New_York:20260301T170000
DTSTAMP:20260420T004127
CREATED:20260225T181458Z
LAST-MODIFIED:20260226T183947Z
UID:3824-1772379000-1772384400@gumbranch.org
SUMMARY:Choir Rehearsal
DESCRIPTION:Share this:\n				Click to share on X (Opens in new window)\n				X\n			\n				Click to share on Facebook (Opens in new window)\n				Facebook
URL:https://gumbranch.org/event/choir-rehearsal-74/
END:VEVENT
BEGIN:VEVENT
DTSTART;TZID=America/New_York:20260301T101500
DTEND;TZID=America/New_York:20260301T113000
DTSTAMP:20260420T004127
CREATED:20260225T181414Z
LAST-MODIFIED:20260225T181414Z
UID:3823-1772360100-1772364600@gumbranch.org
SUMMARY:Morning Worship
DESCRIPTION:Share this:\n				Click to share on X (Opens in new window)\n				X\n			\n				Click to share on Facebook (Opens in new window)\n				Facebook
URL:https://gumbranch.org/event/morning-worship-91/
END:VEVENT
BEGIN:VEVENT
DTSTART;TZID=America/New_York:20260301T090000
DTEND;TZID=America/New_York:20260301T100000
DTSTAMP:20260420T004127
CREATED:20260225T181316Z
LAST-MODIFIED:20260225T181316Z
UID:3822-1772355600-1772359200@gumbranch.org
SUMMARY:Bible Study
DESCRIPTION:Share this:\n				Click to share on X (Opens in new window)\n				X\n			\n				Click to share on Facebook (Opens in new window)\n				Facebook
URL:https://gumbranch.org/event/bible-study-93/
END:VEVENT
BEGIN:VEVENT
DTSTART;TZID=America/New_York:20260228T080000
DTEND;TZID=America/New_York:20260228T093000
DTSTAMP:20260420T004127
CREATED:20260204T203525Z
LAST-MODIFIED:20260204T203525Z
UID:3820-1772265600-1772271000@gumbranch.org
SUMMARY:Men's Fellowship Breakfast
DESCRIPTION:Share this:\n				Click to share on X (Opens in new window)\n				X\n			\n				Click to share on Facebook (Opens in new window)\n				Facebook
URL:https://gumbranch.org/event/mens-fellowship-breakfast-5/
END:VEVENT
BEGIN:VEVENT
DTSTART;TZID=America/New_York:20260226T090000
DTEND;TZID=America/New_York:20260226T110000
DTSTAMP:20260420T004127
CREATED:20260204T203442Z
LAST-MODIFIED:20260204T203442Z
UID:3819-1772096400-1772103600@gumbranch.org
SUMMARY:Mother's Ministry
DESCRIPTION:Share this:\n				Click to share on X (Opens in new window)\n				X\n			\n				Click to share on Facebook (Opens in new window)\n				Facebook
URL:https://gumbranch.org/event/mothers-ministry-41/
END:VEVENT
BEGIN:VEVENT
DTSTART;TZID=America/New_York:20260225T193000
DTEND;TZID=America/New_York:20260225T200000
DTSTAMP:20260420T004127
CREATED:20260204T203410Z
LAST-MODIFIED:20260204T203410Z
UID:3818-1772047800-1772049600@gumbranch.org
SUMMARY:Church Conference
DESCRIPTION:Share this:\n				Click to share on X (Opens in new window)\n				X\n			\n				Click to share on Facebook (Opens in new window)\n				Facebook
URL:https://gumbranch.org/event/church-conference-8/
END:VEVENT
BEGIN:VEVENT
DTSTART;TZID=America/New_York:20260225T183000
DTEND;TZID=America/New_York:20260225T193000
DTSTAMP:20260420T004127
CREATED:20260204T203307Z
LAST-MODIFIED:20260204T203307Z
UID:3817-1772044200-1772047800@gumbranch.org
SUMMARY:Youth & Children's Programs
DESCRIPTION:Share this:\n				Click to share on X (Opens in new window)\n				X\n			\n				Click to share on Facebook (Opens in new window)\n				Facebook
URL:https://gumbranch.org/event/youth-childrens-programs-68/
END:VEVENT
BEGIN:VEVENT
DTSTART;TZID=America/New_York:20260225T183000
DTEND;TZID=America/New_York:20260225T193000
DTSTAMP:20260420T004127
CREATED:20260204T203228Z
LAST-MODIFIED:20260204T203228Z
UID:3816-1772044200-1772047800@gumbranch.org
SUMMARY:Discipleship Training
DESCRIPTION:Share this:\n				Click to share on X (Opens in new window)\n				X\n			\n				Click to share on Facebook (Opens in new window)\n				Facebook
URL:https://gumbranch.org/event/discipleship-training-68/
END:VEVENT
BEGIN:VEVENT
DTSTART;TZID=America/New_York:20260225T183000
DTEND;TZID=America/New_York:20260225T193000
DTSTAMP:20260420T004127
CREATED:20260204T203122Z
LAST-MODIFIED:20260204T203122Z
UID:3815-1772044200-1772047800@gumbranch.org
SUMMARY:Adult Bible Study
DESCRIPTION:Share this:\n				Click to share on X (Opens in new window)\n				X\n			\n				Click to share on Facebook (Opens in new window)\n				Facebook
URL:https://gumbranch.org/event/adult-bible-study-84/
END:VEVENT
BEGIN:VEVENT
DTSTART;TZID=America/New_York:20260225T100000
DTEND;TZID=America/New_York:20260225T120000
DTSTAMP:20260420T004127
CREATED:20260204T202944Z
LAST-MODIFIED:20260204T202957Z
UID:3813-1772013600-1772020800@gumbranch.org
SUMMARY:Ladies Bible Study
DESCRIPTION:Share this:\n				Click to share on X (Opens in new window)\n				X\n			\n				Click to share on Facebook (Opens in new window)\n				Facebook
URL:https://gumbranch.org/event/ladies-bible-studies/
END:VEVENT
BEGIN:VEVENT
DTSTART;TZID=America/New_York:20260225T053000
DTEND;TZID=America/New_York:20260225T182000
DTSTAMP:20260420T004127
CREATED:20260204T203050Z
LAST-MODIFIED:20260204T203050Z
UID:3814-1771997400-1772043600@gumbranch.org
SUMMARY:Wednesday Meal
DESCRIPTION:Share this:\n				Click to share on X (Opens in new window)\n				X\n			\n				Click to share on Facebook (Opens in new window)\n				Facebook
URL:https://gumbranch.org/event/wednesday-meal-27/
END:VEVENT
BEGIN:VEVENT
DTSTART;TZID=America/New_York:20260224T063000
DTEND;TZID=America/New_York:20260224T073000
DTSTAMP:20260420T004127
CREATED:20260204T202907Z
LAST-MODIFIED:20260204T202907Z
UID:3812-1771914600-1771918200@gumbranch.org
SUMMARY:Men's Prayer Breakfast
DESCRIPTION:Share this:\n				Click to share on X (Opens in new window)\n				X\n			\n				Click to share on Facebook (Opens in new window)\n				Facebook
URL:https://gumbranch.org/event/mens-prayer-breakfast-85/
END:VEVENT
BEGIN:VEVENT
DTSTART;TZID=America/New_York:20260222T170000
DTEND;TZID=America/New_York:20260222T180000
DTSTAMP:20260420T004127
CREATED:20260204T202743Z
LAST-MODIFIED:20260204T202743Z
UID:3811-1771779600-1771783200@gumbranch.org
SUMMARY:Evening Worship Service
DESCRIPTION:Share this:\n				Click to share on X (Opens in new window)\n				X\n			\n				Click to share on Facebook (Opens in new window)\n				Facebook
URL:https://gumbranch.org/event/evening-worship-service-4/
END:VEVENT
BEGIN:VEVENT
DTSTART;TZID=America/New_York:20260222T160000
DTEND;TZID=America/New_York:20260222T170000
DTSTAMP:20260420T004127
CREATED:20260204T202705Z
LAST-MODIFIED:20260204T202705Z
UID:3810-1771776000-1771779600@gumbranch.org
SUMMARY:Choir Rehearsal
DESCRIPTION:Share this:\n				Click to share on X (Opens in new window)\n				X\n			\n				Click to share on Facebook (Opens in new window)\n				Facebook
URL:https://gumbranch.org/event/choir-rehearsal-73/
END:VEVENT
BEGIN:VEVENT
DTSTART;TZID=America/New_York:20260222T101500
DTEND;TZID=America/New_York:20260222T113000
DTSTAMP:20260420T004127
CREATED:20260204T202621Z
LAST-MODIFIED:20260204T202621Z
UID:3809-1771755300-1771759800@gumbranch.org
SUMMARY:Morning Worship
DESCRIPTION:Share this:\n				Click to share on X (Opens in new window)\n				X\n			\n				Click to share on Facebook (Opens in new window)\n				Facebook
URL:https://gumbranch.org/event/morning-worship-90/
END:VEVENT
END:VCALENDAR