BEGIN:VCALENDAR
VERSION:2.0
PRODID:-//Gum Branch Baptist Church - ECPv6.15.1//NONSGML v1.0//EN
CALSCALE:GREGORIAN
METHOD:PUBLISH
X-WR-CALNAME:Gum Branch Baptist Church
X-ORIGINAL-URL:https://gumbranch.org
X-WR-CALDESC:Events for Gum Branch Baptist Church
REFRESH-INTERVAL;VALUE=DURATION:PT1H
X-Robots-Tag:noindex
X-PUBLISHED-TTL:PT1H
BEGIN:VTIMEZONE
TZID:America/New_York
BEGIN:DAYLIGHT
TZOFFSETFROM:-0500
TZOFFSETTO:-0400
TZNAME:EDT
DTSTART:20250309T070000
END:DAYLIGHT
BEGIN:STANDARD
TZOFFSETFROM:-0400
TZOFFSETTO:-0500
TZNAME:EST
DTSTART:20251102T060000
END:STANDARD
BEGIN:DAYLIGHT
TZOFFSETFROM:-0500
TZOFFSETTO:-0400
TZNAME:EDT
DTSTART:20260308T070000
END:DAYLIGHT
BEGIN:STANDARD
TZOFFSETFROM:-0400
TZOFFSETTO:-0500
TZNAME:EST
DTSTART:20261101T060000
END:STANDARD
END:VTIMEZONE
BEGIN:VEVENT
DTSTART;TZID=America/New_York:20260106T063000
DTEND;TZID=America/New_York:20260106T193000
DTSTAMP:20260422T174843
CREATED:20251217T201158Z
LAST-MODIFIED:20251217T201158Z
UID:3729-1767681000-1767727800@gumbranch.org
SUMMARY:Men's Prayer Breakfast
DESCRIPTION:Share this:\n				Click to share on X (Opens in new window)\n				X\n			\n				Click to share on Facebook (Opens in new window)\n				Facebook
URL:https://gumbranch.org/event/mens-prayer-breakfast-78/
END:VEVENT
BEGIN:VEVENT
DTSTART;TZID=America/New_York:20260104T170000
DTEND;TZID=America/New_York:20260104T180000
DTSTAMP:20260422T174843
CREATED:20251217T201105Z
LAST-MODIFIED:20251217T201105Z
UID:3728-1767546000-1767549600@gumbranch.org
SUMMARY:Evening Worship/Children's Choir
DESCRIPTION:Share this:\n				Click to share on X (Opens in new window)\n				X\n			\n				Click to share on Facebook (Opens in new window)\n				Facebook
URL:https://gumbranch.org/event/evening-worship-childrens-choir-2/
END:VEVENT
BEGIN:VEVENT
DTSTART;TZID=America/New_York:20260104T160000
DTEND;TZID=America/New_York:20260104T170000
DTSTAMP:20260422T174843
CREATED:20251217T200455Z
LAST-MODIFIED:20251217T200455Z
UID:3727-1767542400-1767546000@gumbranch.org
SUMMARY:Choir Rehearsal
DESCRIPTION:Share this:\n				Click to share on X (Opens in new window)\n				X\n			\n				Click to share on Facebook (Opens in new window)\n				Facebook
URL:https://gumbranch.org/event/choir-rehearsal-69/
END:VEVENT
BEGIN:VEVENT
DTSTART;TZID=America/New_York:20260104T101500
DTEND;TZID=America/New_York:20260104T113000
DTSTAMP:20260422T174843
CREATED:20251217T200107Z
LAST-MODIFIED:20251217T200107Z
UID:3726-1767521700-1767526200@gumbranch.org
SUMMARY:Morning Worship
DESCRIPTION:Share this:\n				Click to share on X (Opens in new window)\n				X\n			\n				Click to share on Facebook (Opens in new window)\n				Facebook
URL:https://gumbranch.org/event/morning-worship-84/
END:VEVENT
BEGIN:VEVENT
DTSTART;TZID=America/New_York:20260104T090000
DTEND;TZID=America/New_York:20260104T100000
DTSTAMP:20260422T174843
CREATED:20251217T200024Z
LAST-MODIFIED:20251217T200024Z
UID:3725-1767517200-1767520800@gumbranch.org
SUMMARY:Bible Study
DESCRIPTION:Share this:\n				Click to share on X (Opens in new window)\n				X\n			\n				Click to share on Facebook (Opens in new window)\n				Facebook
URL:https://gumbranch.org/event/bible-study-86/
END:VEVENT
BEGIN:VEVENT
DTSTART;VALUE=DATE:20251230
DTEND;VALUE=DATE:20260102
DTSTAMP:20260422T174843
CREATED:20251203T190758Z
LAST-MODIFIED:20251203T190758Z
UID:3721-1767052800-1767311999@gumbranch.org
SUMMARY:Office Closed for the Holidays
DESCRIPTION:Share this:\n				Click to share on X (Opens in new window)\n				X\n			\n				Click to share on Facebook (Opens in new window)\n				Facebook
URL:https://gumbranch.org/event/office-closed-for-the-holidays-2/
END:VEVENT
BEGIN:VEVENT
DTSTART;TZID=America/New_York:20251228T101500
DTEND;TZID=America/New_York:20251228T113000
DTSTAMP:20260422T174843
CREATED:20251203T190700Z
LAST-MODIFIED:20251203T190700Z
UID:3720-1766916900-1766921400@gumbranch.org
SUMMARY:Morning Worship
DESCRIPTION:Share this:\n				Click to share on X (Opens in new window)\n				X\n			\n				Click to share on Facebook (Opens in new window)\n				Facebook
URL:https://gumbranch.org/event/morning-worship-83/
END:VEVENT
BEGIN:VEVENT
DTSTART;TZID=America/New_York:20251228T090000
DTEND;TZID=America/New_York:20251228T100000
DTSTAMP:20260422T174843
CREATED:20251203T190612Z
LAST-MODIFIED:20251203T190612Z
UID:3719-1766912400-1766916000@gumbranch.org
SUMMARY:Bible Study
DESCRIPTION:Share this:\n				Click to share on X (Opens in new window)\n				X\n			\n				Click to share on Facebook (Opens in new window)\n				Facebook
URL:https://gumbranch.org/event/bible-study-85/
END:VEVENT
BEGIN:VEVENT
DTSTART;TZID=America/New_York:20251224T180000
DTEND;TZID=America/New_York:20251224T190000
DTSTAMP:20260422T174843
CREATED:20251203T190511Z
LAST-MODIFIED:20251203T190511Z
UID:3717-1766599200-1766602800@gumbranch.org
SUMMARY:Christmas Eve Service
DESCRIPTION:Share this:\n				Click to share on X (Opens in new window)\n				X\n			\n				Click to share on Facebook (Opens in new window)\n				Facebook
URL:https://gumbranch.org/event/christmas-eve-service-2/
END:VEVENT
BEGIN:VEVENT
DTSTART;VALUE=DATE:20251223
DTEND;VALUE=DATE:20251226
DTSTAMP:20260422T174843
CREATED:20251203T190403Z
LAST-MODIFIED:20251203T190403Z
UID:3716-1766448000-1766707199@gumbranch.org
SUMMARY:Office Closed for the Holidays
DESCRIPTION:Share this:\n				Click to share on X (Opens in new window)\n				X\n			\n				Click to share on Facebook (Opens in new window)\n				Facebook
URL:https://gumbranch.org/event/office-closed-for-the-holidays/
END:VEVENT
BEGIN:VEVENT
DTSTART;TZID=America/New_York:20251221T170000
DTEND;TZID=America/New_York:20251221T180000
DTSTAMP:20260422T174843
CREATED:20251203T190132Z
LAST-MODIFIED:20251203T191001Z
UID:3714-1766336400-1766340000@gumbranch.org
SUMMARY:"A Quizzical Christmas" Children's Program
DESCRIPTION:Share this:\n				Click to share on X (Opens in new window)\n				X\n			\n				Click to share on Facebook (Opens in new window)\n				Facebook
URL:https://gumbranch.org/event/a-quizzical-christmas-children-program/
END:VEVENT
BEGIN:VEVENT
DTSTART;TZID=America/New_York:20251221T111500
DTEND;TZID=America/New_York:20251221T113000
DTSTAMP:20260422T174843
CREATED:20251203T190248Z
LAST-MODIFIED:20251203T190248Z
UID:3715-1766315700-1766316600@gumbranch.org
SUMMARY:Observance of the Lord's Supper
DESCRIPTION:Share this:\n				Click to share on X (Opens in new window)\n				X\n			\n				Click to share on Facebook (Opens in new window)\n				Facebook
URL:https://gumbranch.org/event/observance-of-the-lords-supper-17/
END:VEVENT
BEGIN:VEVENT
DTSTART;TZID=America/New_York:20251221T101500
DTEND;TZID=America/New_York:20251221T113000
DTSTAMP:20260422T174843
CREATED:20251203T185838Z
LAST-MODIFIED:20251203T185838Z
UID:3713-1766312100-1766316600@gumbranch.org
SUMMARY:Morning Worship
DESCRIPTION:Share this:\n				Click to share on X (Opens in new window)\n				X\n			\n				Click to share on Facebook (Opens in new window)\n				Facebook
URL:https://gumbranch.org/event/morning-worship-82/
END:VEVENT
BEGIN:VEVENT
DTSTART;TZID=America/New_York:20251221T090000
DTEND;TZID=America/New_York:20251221T100000
DTSTAMP:20260422T174843
CREATED:20251203T185757Z
LAST-MODIFIED:20251203T185757Z
UID:3712-1766307600-1766311200@gumbranch.org
SUMMARY:Bible Study
DESCRIPTION:Share this:\n				Click to share on X (Opens in new window)\n				X\n			\n				Click to share on Facebook (Opens in new window)\n				Facebook
URL:https://gumbranch.org/event/bible-study-84/
END:VEVENT
BEGIN:VEVENT
DTSTART;TZID=America/New_York:20251220T090000
DTEND;TZID=America/New_York:20251220T230000
DTSTAMP:20260422T174843
CREATED:20251203T185725Z
LAST-MODIFIED:20251203T185725Z
UID:3711-1766221200-1766271600@gumbranch.org
SUMMARY:Food Give Out
DESCRIPTION:Share this:\n				Click to share on X (Opens in new window)\n				X\n			\n				Click to share on Facebook (Opens in new window)\n				Facebook
URL:https://gumbranch.org/event/food-give-out-18/
END:VEVENT
BEGIN:VEVENT
DTSTART;TZID=America/New_York:20251217T183000
DTEND;TZID=America/New_York:20251217T193000
DTSTAMP:20260422T174843
CREATED:20251203T185536Z
LAST-MODIFIED:20251203T185536Z
UID:3709-1765996200-1765999800@gumbranch.org
SUMMARY:Youth & Children's Programs
DESCRIPTION:Share this:\n				Click to share on X (Opens in new window)\n				X\n			\n				Click to share on Facebook (Opens in new window)\n				Facebook
URL:https://gumbranch.org/event/youth-childrens-programs-60/
END:VEVENT
BEGIN:VEVENT
DTSTART;TZID=America/New_York:20251217T183000
DTEND;TZID=America/New_York:20251217T193000
DTSTAMP:20260422T174843
CREATED:20251203T185456Z
LAST-MODIFIED:20251203T185456Z
UID:3708-1765996200-1765999800@gumbranch.org
SUMMARY:Discipleship Training
DESCRIPTION:Share this:\n				Click to share on X (Opens in new window)\n				X\n			\n				Click to share on Facebook (Opens in new window)\n				Facebook
URL:https://gumbranch.org/event/discipleship-training-60/
END:VEVENT
BEGIN:VEVENT
DTSTART;TZID=America/New_York:20251217T183000
DTEND;TZID=America/New_York:20251217T193000
DTSTAMP:20260422T174843
CREATED:20251203T185420Z
LAST-MODIFIED:20251203T185420Z
UID:3707-1765996200-1765999800@gumbranch.org
SUMMARY:Adult Bible Study
DESCRIPTION:Share this:\n				Click to share on X (Opens in new window)\n				X\n			\n				Click to share on Facebook (Opens in new window)\n				Facebook
URL:https://gumbranch.org/event/adult-bible-study-76/
END:VEVENT
BEGIN:VEVENT
DTSTART;TZID=America/New_York:20251216T063000
DTEND;TZID=America/New_York:20251216T073000
DTSTAMP:20260422T174843
CREATED:20251203T181354Z
LAST-MODIFIED:20251203T181354Z
UID:3704-1765866600-1765870200@gumbranch.org
SUMMARY:Men's Prayer Breakfast
DESCRIPTION:Share this:\n				Click to share on X (Opens in new window)\n				X\n			\n				Click to share on Facebook (Opens in new window)\n				Facebook
URL:https://gumbranch.org/event/mens-prayer-breakfast-77/
END:VEVENT
BEGIN:VEVENT
DTSTART;TZID=America/New_York:20251214T170000
DTEND;TZID=America/New_York:20251214T180000
DTSTAMP:20260422T174843
CREATED:20251203T181309Z
LAST-MODIFIED:20251203T181309Z
UID:3703-1765731600-1765735200@gumbranch.org
SUMMARY:Adult Cantata
DESCRIPTION:Share this:\n				Click to share on X (Opens in new window)\n				X\n			\n				Click to share on Facebook (Opens in new window)\n				Facebook
URL:https://gumbranch.org/event/adult-cantata-3/
END:VEVENT
BEGIN:VEVENT
DTSTART;TZID=America/New_York:20251214T160000
DTEND;TZID=America/New_York:20251214T170000
DTSTAMP:20260422T174843
CREATED:20251203T181233Z
LAST-MODIFIED:20251203T181233Z
UID:3702-1765728000-1765731600@gumbranch.org
SUMMARY:Choir Rehearsal
DESCRIPTION:Share this:\n				Click to share on X (Opens in new window)\n				X\n			\n				Click to share on Facebook (Opens in new window)\n				Facebook
URL:https://gumbranch.org/event/choir-rehearsal-68/
END:VEVENT
BEGIN:VEVENT
DTSTART;TZID=America/New_York:20251214T101500
DTEND;TZID=America/New_York:20251214T113000
DTSTAMP:20260422T174843
CREATED:20251203T181110Z
LAST-MODIFIED:20251203T181152Z
UID:3701-1765707300-1765711800@gumbranch.org
SUMMARY:Morning Worship/Lottie Moon Ingathering
DESCRIPTION:Share this:\n				Click to share on X (Opens in new window)\n				X\n			\n				Click to share on Facebook (Opens in new window)\n				Facebook
URL:https://gumbranch.org/event/morning-worship-81/
END:VEVENT
BEGIN:VEVENT
DTSTART;TZID=America/New_York:20251214T090000
DTEND;TZID=America/New_York:20251214T100000
DTSTAMP:20260422T174843
CREATED:20251203T181033Z
LAST-MODIFIED:20251203T181033Z
UID:3700-1765702800-1765706400@gumbranch.org
SUMMARY:Bible Study
DESCRIPTION:Share this:\n				Click to share on X (Opens in new window)\n				X\n			\n				Click to share on Facebook (Opens in new window)\n				Facebook
URL:https://gumbranch.org/event/bible-study-83/
END:VEVENT
BEGIN:VEVENT
DTSTART;TZID=America/New_York:20251212T183000
DTEND;TZID=America/New_York:20251212T200000
DTSTAMP:20260422T174843
CREATED:20251203T180952Z
LAST-MODIFIED:20251203T180952Z
UID:3699-1765564200-1765569600@gumbranch.org
SUMMARY:Ladies Craft Night
DESCRIPTION:Share this:\n				Click to share on X (Opens in new window)\n				X\n			\n				Click to share on Facebook (Opens in new window)\n				Facebook
URL:https://gumbranch.org/event/ladies-craft-night-19/
END:VEVENT
BEGIN:VEVENT
DTSTART;TZID=America/New_York:20251211T090000
DTEND;TZID=America/New_York:20251211T110000
DTSTAMP:20260422T174843
CREATED:20251203T180904Z
LAST-MODIFIED:20251203T180904Z
UID:3698-1765443600-1765450800@gumbranch.org
SUMMARY:Mother's Ministry
DESCRIPTION:Share this:\n				Click to share on X (Opens in new window)\n				X\n			\n				Click to share on Facebook (Opens in new window)\n				Facebook
URL:https://gumbranch.org/event/mothers-ministry-37/
END:VEVENT
BEGIN:VEVENT
DTSTART;TZID=America/New_York:20251210T183000
DTEND;TZID=America/New_York:20251210T193000
DTSTAMP:20260422T174843
CREATED:20251203T180827Z
LAST-MODIFIED:20251203T180827Z
UID:3697-1765391400-1765395000@gumbranch.org
SUMMARY:Youth & Children's Programs
DESCRIPTION:Share this:\n				Click to share on X (Opens in new window)\n				X\n			\n				Click to share on Facebook (Opens in new window)\n				Facebook
URL:https://gumbranch.org/event/youth-childrens-programs-59/
END:VEVENT
BEGIN:VEVENT
DTSTART;TZID=America/New_York:20251210T183000
DTEND;TZID=America/New_York:20251210T193000
DTSTAMP:20260422T174843
CREATED:20251203T180749Z
LAST-MODIFIED:20251203T180749Z
UID:3696-1765391400-1765395000@gumbranch.org
SUMMARY:Discipleship Training
DESCRIPTION:Share this:\n				Click to share on X (Opens in new window)\n				X\n			\n				Click to share on Facebook (Opens in new window)\n				Facebook
URL:https://gumbranch.org/event/discipleship-training-59/
END:VEVENT
BEGIN:VEVENT
DTSTART;TZID=America/New_York:20251210T183000
DTEND;TZID=America/New_York:20251210T193000
DTSTAMP:20260422T174843
CREATED:20251203T180707Z
LAST-MODIFIED:20251203T180707Z
UID:3695-1765391400-1765395000@gumbranch.org
SUMMARY:Adult Bible Study
DESCRIPTION:Share this:\n				Click to share on X (Opens in new window)\n				X\n			\n				Click to share on Facebook (Opens in new window)\n				Facebook
URL:https://gumbranch.org/event/adult-bible-study-75/
END:VEVENT
BEGIN:VEVENT
DTSTART;TZID=America/New_York:20251209T063000
DTEND;TZID=America/New_York:20251209T073000
DTSTAMP:20260422T174843
CREATED:20251203T180622Z
LAST-MODIFIED:20251203T180622Z
UID:3694-1765261800-1765265400@gumbranch.org
SUMMARY:Men's Prayer Breakfast
DESCRIPTION:Share this:\n				Click to share on X (Opens in new window)\n				X\n			\n				Click to share on Facebook (Opens in new window)\n				Facebook
URL:https://gumbranch.org/event/mens-prayer-breakfast-76/
END:VEVENT
BEGIN:VEVENT
DTSTART;TZID=America/New_York:20251207T170000
DTEND;TZID=America/New_York:20251207T180000
DTSTAMP:20260422T174843
CREATED:20251203T180542Z
LAST-MODIFIED:20251203T180542Z
UID:3693-1765126800-1765130400@gumbranch.org
SUMMARY:Evening Worship/Children's Choir
DESCRIPTION:Share this:\n				Click to share on X (Opens in new window)\n				X\n			\n				Click to share on Facebook (Opens in new window)\n				Facebook
URL:https://gumbranch.org/event/evening-worship-childrens-choir/
END:VEVENT
END:VCALENDAR