BEGIN:VCALENDAR
VERSION:2.0
PRODID:-//Gum Branch Baptist Church - ECPv6.15.1//NONSGML v1.0//EN
CALSCALE:GREGORIAN
METHOD:PUBLISH
X-WR-CALNAME:Gum Branch Baptist Church
X-ORIGINAL-URL:https://gumbranch.org
X-WR-CALDESC:Events for Gum Branch Baptist Church
REFRESH-INTERVAL;VALUE=DURATION:PT1H
X-Robots-Tag:noindex
X-PUBLISHED-TTL:PT1H
BEGIN:VTIMEZONE
TZID:America/New_York
BEGIN:DAYLIGHT
TZOFFSETFROM:-0500
TZOFFSETTO:-0400
TZNAME:EDT
DTSTART:20250309T070000
END:DAYLIGHT
BEGIN:STANDARD
TZOFFSETFROM:-0400
TZOFFSETTO:-0500
TZNAME:EST
DTSTART:20251102T060000
END:STANDARD
END:VTIMEZONE
BEGIN:VEVENT
DTSTART;TZID=America/New_York:20251109T160000
DTEND;TZID=America/New_York:20251109T170000
DTSTAMP:20260422T172713
CREATED:20251029T180545Z
LAST-MODIFIED:20251029T180545Z
UID:3646-1762704000-1762707600@gumbranch.org
SUMMARY:Choir Rehearsal
DESCRIPTION:Share this:\n				Click to share on X (Opens in new window)\n				X\n			\n				Click to share on Facebook (Opens in new window)\n				Facebook
URL:https://gumbranch.org/event/choir-rehearsal-64/
END:VEVENT
BEGIN:VEVENT
DTSTART;TZID=America/New_York:20251109T110000
DTEND;TZID=America/New_York:20251109T113000
DTSTAMP:20260422T172713
CREATED:20251029T180740Z
LAST-MODIFIED:20251029T180740Z
UID:3648-1762686000-1762687800@gumbranch.org
SUMMARY:Observance of the Lord's Supper
DESCRIPTION:Share this:\n				Click to share on X (Opens in new window)\n				X\n			\n				Click to share on Facebook (Opens in new window)\n				Facebook
URL:https://gumbranch.org/event/observance-of-the-lords-supper-16/
END:VEVENT
BEGIN:VEVENT
DTSTART;TZID=America/New_York:20251109T101500
DTEND;TZID=America/New_York:20251109T113000
DTSTAMP:20260422T172713
CREATED:20251029T180509Z
LAST-MODIFIED:20251029T180509Z
UID:3645-1762683300-1762687800@gumbranch.org
SUMMARY:Morning Worship
DESCRIPTION:Share this:\n				Click to share on X (Opens in new window)\n				X\n			\n				Click to share on Facebook (Opens in new window)\n				Facebook
URL:https://gumbranch.org/event/morning-worship-76/
END:VEVENT
BEGIN:VEVENT
DTSTART;TZID=America/New_York:20251109T090000
DTEND;TZID=America/New_York:20251109T100000
DTSTAMP:20260422T172713
CREATED:20251029T180425Z
LAST-MODIFIED:20251029T180425Z
UID:3644-1762678800-1762682400@gumbranch.org
SUMMARY:Bible Study
DESCRIPTION:Share this:\n				Click to share on X (Opens in new window)\n				X\n			\n				Click to share on Facebook (Opens in new window)\n				Facebook
URL:https://gumbranch.org/event/bible-study-78/
END:VEVENT
BEGIN:VEVENT
DTSTART;TZID=America/New_York:20251105T183000
DTEND;TZID=America/New_York:20251105T193000
DTSTAMP:20260422T172713
CREATED:20251029T180338Z
LAST-MODIFIED:20251029T180338Z
UID:3643-1762367400-1762371000@gumbranch.org
SUMMARY:Youth & Children's Programs
DESCRIPTION:Share this:\n				Click to share on X (Opens in new window)\n				X\n			\n				Click to share on Facebook (Opens in new window)\n				Facebook
URL:https://gumbranch.org/event/youth-childrens-programs-55/
END:VEVENT
BEGIN:VEVENT
DTSTART;TZID=America/New_York:20251105T183000
DTEND;TZID=America/New_York:20251105T193000
DTSTAMP:20260422T172713
CREATED:20251029T180243Z
LAST-MODIFIED:20251029T180243Z
UID:3642-1762367400-1762371000@gumbranch.org
SUMMARY:Discipleship Training
DESCRIPTION:Share this:\n				Click to share on X (Opens in new window)\n				X\n			\n				Click to share on Facebook (Opens in new window)\n				Facebook
URL:https://gumbranch.org/event/discipleship-training-55/
END:VEVENT
BEGIN:VEVENT
DTSTART;TZID=America/New_York:20251105T183000
DTEND;TZID=America/New_York:20251105T193000
DTSTAMP:20260422T172713
CREATED:20251029T180206Z
LAST-MODIFIED:20251029T180206Z
UID:3641-1762367400-1762371000@gumbranch.org
SUMMARY:Adult Bible Study
DESCRIPTION:Share this:\n				Click to share on X (Opens in new window)\n				X\n			\n				Click to share on Facebook (Opens in new window)\n				Facebook
URL:https://gumbranch.org/event/adult-bible-study-71/
END:VEVENT
BEGIN:VEVENT
DTSTART;TZID=America/New_York:20251104T063000
DTEND;TZID=America/New_York:20251104T073000
DTSTAMP:20260422T172713
CREATED:20251029T180118Z
LAST-MODIFIED:20251029T180118Z
UID:3640-1762237800-1762241400@gumbranch.org
SUMMARY:Men's Prayer Breakfast
DESCRIPTION:Share this:\n				Click to share on X (Opens in new window)\n				X\n			\n				Click to share on Facebook (Opens in new window)\n				Facebook
URL:https://gumbranch.org/event/mens-prayer-breakfast-71/
END:VEVENT
BEGIN:VEVENT
DTSTART;TZID=America/New_York:20251102T170000
DTEND;TZID=America/New_York:20251102T180000
DTSTAMP:20260422T172713
CREATED:20251029T180017Z
LAST-MODIFIED:20251029T180017Z
UID:3639-1762102800-1762106400@gumbranch.org
SUMMARY:Children's Choir
DESCRIPTION:Share this:\n				Click to share on X (Opens in new window)\n				X\n			\n				Click to share on Facebook (Opens in new window)\n				Facebook
URL:https://gumbranch.org/event/childrens-choir-3/
END:VEVENT
BEGIN:VEVENT
DTSTART;TZID=America/New_York:20251102T170000
DTEND;TZID=America/New_York:20251102T180000
DTSTAMP:20260422T172713
CREATED:20251029T175937Z
LAST-MODIFIED:20251029T175937Z
UID:3638-1762102800-1762106400@gumbranch.org
SUMMARY:Evening Worship
DESCRIPTION:Share this:\n				Click to share on X (Opens in new window)\n				X\n			\n				Click to share on Facebook (Opens in new window)\n				Facebook
URL:https://gumbranch.org/event/evening-worship-46/
END:VEVENT
BEGIN:VEVENT
DTSTART;TZID=America/New_York:20251102T160000
DTEND;TZID=America/New_York:20251102T170000
DTSTAMP:20260422T172713
CREATED:20251029T175848Z
LAST-MODIFIED:20251029T175848Z
UID:3637-1762099200-1762102800@gumbranch.org
SUMMARY:Choir Rehearsal
DESCRIPTION:Share this:\n				Click to share on X (Opens in new window)\n				X\n			\n				Click to share on Facebook (Opens in new window)\n				Facebook
URL:https://gumbranch.org/event/choir-rehearsal-63/
END:VEVENT
BEGIN:VEVENT
DTSTART;TZID=America/New_York:20251102T101500
DTEND;TZID=America/New_York:20251102T113000
DTSTAMP:20260422T172713
CREATED:20251029T175814Z
LAST-MODIFIED:20251029T175814Z
UID:3636-1762078500-1762083000@gumbranch.org
SUMMARY:Morning Worship
DESCRIPTION:Share this:\n				Click to share on X (Opens in new window)\n				X\n			\n				Click to share on Facebook (Opens in new window)\n				Facebook
URL:https://gumbranch.org/event/morning-worship-75/
END:VEVENT
BEGIN:VEVENT
DTSTART;TZID=America/New_York:20251102T090000
DTEND;TZID=America/New_York:20251102T100000
DTSTAMP:20260422T172713
CREATED:20251029T175735Z
LAST-MODIFIED:20251029T175735Z
UID:3635-1762074000-1762077600@gumbranch.org
SUMMARY:Bible Study
DESCRIPTION:Share this:\n				Click to share on X (Opens in new window)\n				X\n			\n				Click to share on Facebook (Opens in new window)\n				Facebook
URL:https://gumbranch.org/event/bible-study-77/
END:VEVENT
BEGIN:VEVENT
DTSTART;TZID=America/New_York:20251101T110000
DTEND;TZID=America/New_York:20251101T120000
DTSTAMP:20260422T172713
CREATED:20251029T175635Z
LAST-MODIFIED:20251029T175635Z
UID:3634-1761994800-1761998400@gumbranch.org
SUMMARY:Women's Ministry Thanksgiving Brunch
DESCRIPTION:Share this:\n				Click to share on X (Opens in new window)\n				X\n			\n				Click to share on Facebook (Opens in new window)\n				Facebook
URL:https://gumbranch.org/event/womens-ministry-thanksgiving-brunch/
END:VEVENT
BEGIN:VEVENT
DTSTART;TZID=America/New_York:20251029T183000
DTEND;TZID=America/New_York:20251029T193000
DTSTAMP:20260422T172713
CREATED:20250924T192004Z
LAST-MODIFIED:20250924T192004Z
UID:3630-1761762600-1761766200@gumbranch.org
SUMMARY:Youth & Children's Programs
DESCRIPTION:Share this:\n				Click to share on X (Opens in new window)\n				X\n			\n				Click to share on Facebook (Opens in new window)\n				Facebook
URL:https://gumbranch.org/event/youth-childrens-programs-54/
END:VEVENT
BEGIN:VEVENT
DTSTART;TZID=America/New_York:20251029T183000
DTEND;TZID=America/New_York:20251029T193000
DTSTAMP:20260422T172713
CREATED:20250924T191926Z
LAST-MODIFIED:20250924T191926Z
UID:3629-1761762600-1761766200@gumbranch.org
SUMMARY:Discipleship Training
DESCRIPTION:Share this:\n				Click to share on X (Opens in new window)\n				X\n			\n				Click to share on Facebook (Opens in new window)\n				Facebook
URL:https://gumbranch.org/event/discipleship-training-54/
END:VEVENT
BEGIN:VEVENT
DTSTART;TZID=America/New_York:20251029T183000
DTEND;TZID=America/New_York:20251029T193000
DTSTAMP:20260422T172713
CREATED:20250924T191849Z
LAST-MODIFIED:20250924T191849Z
UID:3628-1761762600-1761766200@gumbranch.org
SUMMARY:Adult Bible Study
DESCRIPTION:Share this:\n				Click to share on X (Opens in new window)\n				X\n			\n				Click to share on Facebook (Opens in new window)\n				Facebook
URL:https://gumbranch.org/event/adult-bible-study-70/
END:VEVENT
BEGIN:VEVENT
DTSTART;TZID=America/New_York:20251028T183000
DTEND;TZID=America/New_York:20251028T193000
DTSTAMP:20260422T172713
CREATED:20250924T191739Z
LAST-MODIFIED:20250924T191739Z
UID:3627-1761676200-1761679800@gumbranch.org
SUMMARY:Deacon's Meeting
DESCRIPTION:Share this:\n				Click to share on X (Opens in new window)\n				X\n			\n				Click to share on Facebook (Opens in new window)\n				Facebook
URL:https://gumbranch.org/event/deacons-meeting-7/
END:VEVENT
BEGIN:VEVENT
DTSTART;TZID=America/New_York:20251028T063000
DTEND;TZID=America/New_York:20251028T073000
DTSTAMP:20260422T172713
CREATED:20250924T191655Z
LAST-MODIFIED:20250924T191655Z
UID:3626-1761633000-1761636600@gumbranch.org
SUMMARY:Men's Prayer Breakfast
DESCRIPTION:Share this:\n				Click to share on X (Opens in new window)\n				X\n			\n				Click to share on Facebook (Opens in new window)\n				Facebook
URL:https://gumbranch.org/event/mens-prayer-breakfast-70/
END:VEVENT
BEGIN:VEVENT
DTSTART;TZID=America/New_York:20251026T170000
DTEND;TZID=America/New_York:20251026T180000
DTSTAMP:20260422T172713
CREATED:20250924T191611Z
LAST-MODIFIED:20250924T191611Z
UID:3625-1761498000-1761501600@gumbranch.org
SUMMARY:Evening Worship
DESCRIPTION:Share this:\n				Click to share on X (Opens in new window)\n				X\n			\n				Click to share on Facebook (Opens in new window)\n				Facebook
URL:https://gumbranch.org/event/evening-worship-45/
END:VEVENT
BEGIN:VEVENT
DTSTART;TZID=America/New_York:20251026T160000
DTEND;TZID=America/New_York:20251026T170000
DTSTAMP:20260422T172713
CREATED:20250924T191539Z
LAST-MODIFIED:20250924T191539Z
UID:3624-1761494400-1761498000@gumbranch.org
SUMMARY:Choir Rehearsal
DESCRIPTION:Share this:\n				Click to share on X (Opens in new window)\n				X\n			\n				Click to share on Facebook (Opens in new window)\n				Facebook
URL:https://gumbranch.org/event/choir-rehearsal-62/
END:VEVENT
BEGIN:VEVENT
DTSTART;TZID=America/New_York:20251026T101500
DTEND;TZID=America/New_York:20251026T113000
DTSTAMP:20260422T172713
CREATED:20250924T191501Z
LAST-MODIFIED:20250924T191501Z
UID:3623-1761473700-1761478200@gumbranch.org
SUMMARY:Morning Worship
DESCRIPTION:Share this:\n				Click to share on X (Opens in new window)\n				X\n			\n				Click to share on Facebook (Opens in new window)\n				Facebook
URL:https://gumbranch.org/event/morning-worship-74/
END:VEVENT
BEGIN:VEVENT
DTSTART;TZID=America/New_York:20251026T090000
DTEND;TZID=America/New_York:20251026T100000
DTSTAMP:20260422T172713
CREATED:20250924T191416Z
LAST-MODIFIED:20250924T191416Z
UID:3622-1761469200-1761472800@gumbranch.org
SUMMARY:Bible Study
DESCRIPTION:Share this:\n				Click to share on X (Opens in new window)\n				X\n			\n				Click to share on Facebook (Opens in new window)\n				Facebook
URL:https://gumbranch.org/event/bible-study-76/
END:VEVENT
BEGIN:VEVENT
DTSTART;TZID=America/New_York:20251025T080000
DTEND;TZID=America/New_York:20251025T093000
DTSTAMP:20260422T172713
CREATED:20250924T191334Z
LAST-MODIFIED:20250924T191334Z
UID:3621-1761379200-1761384600@gumbranch.org
SUMMARY:Men's Fellowship Breakfast
DESCRIPTION:Share this:\n				Click to share on X (Opens in new window)\n				X\n			\n				Click to share on Facebook (Opens in new window)\n				Facebook
URL:https://gumbranch.org/event/mens-fellowship-breakfast-4/
END:VEVENT
BEGIN:VEVENT
DTSTART;TZID=America/New_York:20251023T090000
DTEND;TZID=America/New_York:20251023T110000
DTSTAMP:20260422T172713
CREATED:20250924T191237Z
LAST-MODIFIED:20250924T191237Z
UID:3620-1761210000-1761217200@gumbranch.org
SUMMARY:Mother's Ministry
DESCRIPTION:Share this:\n				Click to share on X (Opens in new window)\n				X\n			\n				Click to share on Facebook (Opens in new window)\n				Facebook
URL:https://gumbranch.org/event/mothers-ministry-35/
END:VEVENT
BEGIN:VEVENT
DTSTART;TZID=America/New_York:20251022T183000
DTEND;TZID=America/New_York:20251022T193000
DTSTAMP:20260422T172713
CREATED:20250924T191153Z
LAST-MODIFIED:20250924T191153Z
UID:3619-1761157800-1761161400@gumbranch.org
SUMMARY:Youth & Children's Programs
DESCRIPTION:Share this:\n				Click to share on X (Opens in new window)\n				X\n			\n				Click to share on Facebook (Opens in new window)\n				Facebook
URL:https://gumbranch.org/event/youth-childrens-programs-53/
END:VEVENT
BEGIN:VEVENT
DTSTART;TZID=America/New_York:20251022T183000
DTEND;TZID=America/New_York:20251022T193000
DTSTAMP:20260422T172713
CREATED:20250924T191112Z
LAST-MODIFIED:20250924T191112Z
UID:3618-1761157800-1761161400@gumbranch.org
SUMMARY:Discipleship Training
DESCRIPTION:Share this:\n				Click to share on X (Opens in new window)\n				X\n			\n				Click to share on Facebook (Opens in new window)\n				Facebook
URL:https://gumbranch.org/event/discipleship-training-53/
END:VEVENT
BEGIN:VEVENT
DTSTART;TZID=America/New_York:20251022T183000
DTEND;TZID=America/New_York:20251022T193000
DTSTAMP:20260422T172713
CREATED:20250924T190946Z
LAST-MODIFIED:20250924T190946Z
UID:3616-1761157800-1761161400@gumbranch.org
SUMMARY:Adult Bible Study
DESCRIPTION:Share this:\n				Click to share on X (Opens in new window)\n				X\n			\n				Click to share on Facebook (Opens in new window)\n				Facebook
URL:https://gumbranch.org/event/adult-bible-study-69/
END:VEVENT
BEGIN:VEVENT
DTSTART;TZID=America/New_York:20251021T063000
DTEND;TZID=America/New_York:20251021T073000
DTSTAMP:20260422T172713
CREATED:20250924T190858Z
LAST-MODIFIED:20250924T190858Z
UID:3615-1761028200-1761031800@gumbranch.org
SUMMARY:Men's Prayer Breakfast
DESCRIPTION:Share this:\n				Click to share on X (Opens in new window)\n				X\n			\n				Click to share on Facebook (Opens in new window)\n				Facebook
URL:https://gumbranch.org/event/mens-prayer-breakfast-69/
END:VEVENT
BEGIN:VEVENT
DTSTART;TZID=America/New_York:20251019T180000
DTEND;TZID=America/New_York:20251019T190000
DTSTAMP:20260422T172713
CREATED:20250924T190714Z
LAST-MODIFIED:20250924T192945Z
UID:3613-1760896800-1760900400@gumbranch.org
SUMMARY:CRBA Fall Meeting
DESCRIPTION:At Calvary Baptist Church\, Jesup\, GA \nShare this:\n				Click to share on X (Opens in new window)\n				X\n			\n				Click to share on Facebook (Opens in new window)\n				Facebook
URL:https://gumbranch.org/event/crba-fall-meeting/
END:VEVENT
END:VCALENDAR