BEGIN:VCALENDAR
VERSION:2.0
PRODID:-//Gum Branch Baptist Church - ECPv6.15.1//NONSGML v1.0//EN
CALSCALE:GREGORIAN
METHOD:PUBLISH
X-ORIGINAL-URL:https://gumbranch.org
X-WR-CALDESC:Events for Gum Branch Baptist Church
REFRESH-INTERVAL;VALUE=DURATION:PT1H
X-Robots-Tag:noindex
X-PUBLISHED-TTL:PT1H
BEGIN:VTIMEZONE
TZID:America/New_York
BEGIN:DAYLIGHT
TZOFFSETFROM:-0500
TZOFFSETTO:-0400
TZNAME:EDT
DTSTART:20260308T070000
END:DAYLIGHT
BEGIN:STANDARD
TZOFFSETFROM:-0400
TZOFFSETTO:-0500
TZNAME:EST
DTSTART:20261101T060000
END:STANDARD
END:VTIMEZONE
BEGIN:VEVENT
DTSTART;TZID=America/New_York:20260503T170000
DTEND;TZID=America/New_York:20260503T180000
DTSTAMP:20260423T165556
CREATED:20260423T135014Z
LAST-MODIFIED:20260423T135014Z
UID:3931-1777827600-1777831200@gumbranch.org
SUMMARY:Evening Worship
DESCRIPTION:Share this:\n				Click to share on X (Opens in new window)\n				X\n			\n				Click to share on Facebook (Opens in new window)\n				Facebook
URL:https://gumbranch.org/event/evening-worship-59/
END:VEVENT
BEGIN:VEVENT
DTSTART;TZID=America/New_York:20260505T063000
DTEND;TZID=America/New_York:20260505T073000
DTSTAMP:20260423T165556
CREATED:20260423T135112Z
LAST-MODIFIED:20260423T135112Z
UID:3932-1777962600-1777966200@gumbranch.org
SUMMARY:Men's Prayer Breakfast
DESCRIPTION:Share this:\n				Click to share on X (Opens in new window)\n				X\n			\n				Click to share on Facebook (Opens in new window)\n				Facebook
URL:https://gumbranch.org/event/mens-prayer-breakfast-95/
END:VEVENT
BEGIN:VEVENT
DTSTART;TZID=America/New_York:20260506T173000
DTEND;TZID=America/New_York:20260506T182000
DTSTAMP:20260423T165556
CREATED:20260423T135316Z
LAST-MODIFIED:20260423T135316Z
UID:3934-1778088600-1778091600@gumbranch.org
SUMMARY:Wednesday Meal
DESCRIPTION:Share this:\n				Click to share on X (Opens in new window)\n				X\n			\n				Click to share on Facebook (Opens in new window)\n				Facebook
URL:https://gumbranch.org/event/wednesday-meal-37/
END:VEVENT
BEGIN:VEVENT
DTSTART;TZID=America/New_York:20260506T183000
DTEND;TZID=America/New_York:20260506T193000
DTSTAMP:20260423T165556
CREATED:20260423T135353Z
LAST-MODIFIED:20260423T135353Z
UID:3935-1778092200-1778095800@gumbranch.org
SUMMARY:Adult Bible Study
DESCRIPTION:Share this:\n				Click to share on X (Opens in new window)\n				X\n			\n				Click to share on Facebook (Opens in new window)\n				Facebook
URL:https://gumbranch.org/event/adult-bible-study-94/
END:VEVENT
BEGIN:VEVENT
DTSTART;TZID=America/New_York:20260506T183000
DTEND;TZID=America/New_York:20260506T193000
DTSTAMP:20260423T165556
CREATED:20260423T135439Z
LAST-MODIFIED:20260423T135439Z
UID:3936-1778092200-1778095800@gumbranch.org
SUMMARY:Discipleship Training
DESCRIPTION:Share this:\n				Click to share on X (Opens in new window)\n				X\n			\n				Click to share on Facebook (Opens in new window)\n				Facebook
URL:https://gumbranch.org/event/discipleship-training-78/
END:VEVENT
BEGIN:VEVENT
DTSTART;TZID=America/New_York:20260506T183000
DTEND;TZID=America/New_York:20260506T193000
DTSTAMP:20260423T165556
CREATED:20260423T135517Z
LAST-MODIFIED:20260423T135517Z
UID:3937-1778092200-1778095800@gumbranch.org
SUMMARY:Youth & Children's Programs
DESCRIPTION:Share this:\n				Click to share on X (Opens in new window)\n				X\n			\n				Click to share on Facebook (Opens in new window)\n				Facebook
URL:https://gumbranch.org/event/youth-childrens-programs-76/
END:VEVENT
BEGIN:VEVENT
DTSTART;VALUE=DATE:20260510
DTEND;VALUE=DATE:20260511
DTSTAMP:20260423T165556
CREATED:20260423T135905Z
LAST-MODIFIED:20260423T135905Z
UID:3938-1778371200-1778457599@gumbranch.org
SUMMARY:Happy Mother's Day!
DESCRIPTION:Share this:\n				Click to share on X (Opens in new window)\n				X\n			\n				Click to share on Facebook (Opens in new window)\n				Facebook
URL:https://gumbranch.org/event/happy-mothers-day-2/
END:VEVENT
BEGIN:VEVENT
DTSTART;TZID=America/New_York:20260510T090000
DTEND;TZID=America/New_York:20260510T100000
DTSTAMP:20260423T165556
CREATED:20260423T140009Z
LAST-MODIFIED:20260423T140009Z
UID:3940-1778403600-1778407200@gumbranch.org
SUMMARY:Bible Study
DESCRIPTION:Share this:\n				Click to share on X (Opens in new window)\n				X\n			\n				Click to share on Facebook (Opens in new window)\n				Facebook
URL:https://gumbranch.org/event/bible-study-103/
END:VEVENT
BEGIN:VEVENT
DTSTART;TZID=America/New_York:20260510T101500
DTEND;TZID=America/New_York:20260510T113000
DTSTAMP:20260423T165556
CREATED:20260423T140057Z
LAST-MODIFIED:20260423T140057Z
UID:3941-1778408100-1778412600@gumbranch.org
SUMMARY:Morning Worship
DESCRIPTION:Share this:\n				Click to share on X (Opens in new window)\n				X\n			\n				Click to share on Facebook (Opens in new window)\n				Facebook
URL:https://gumbranch.org/event/morning-worship-101/
END:VEVENT
BEGIN:VEVENT
DTSTART;TZID=America/New_York:20260512T063000
DTEND;TZID=America/New_York:20260512T073000
DTSTAMP:20260423T165556
CREATED:20260423T140145Z
LAST-MODIFIED:20260423T140145Z
UID:3942-1778567400-1778571000@gumbranch.org
SUMMARY:Men's Prayer Breakfast
DESCRIPTION:Share this:\n				Click to share on X (Opens in new window)\n				X\n			\n				Click to share on Facebook (Opens in new window)\n				Facebook
URL:https://gumbranch.org/event/mens-prayer-breakfast-96/
END:VEVENT
BEGIN:VEVENT
DTSTART;TZID=America/New_York:20260513T173000
DTEND;TZID=America/New_York:20260513T182000
DTSTAMP:20260423T165556
CREATED:20260423T140230Z
LAST-MODIFIED:20260423T140230Z
UID:3943-1778693400-1778696400@gumbranch.org
SUMMARY:Wednesday Meal
DESCRIPTION:Share this:\n				Click to share on X (Opens in new window)\n				X\n			\n				Click to share on Facebook (Opens in new window)\n				Facebook
URL:https://gumbranch.org/event/wednesday-meal-38/
END:VEVENT
BEGIN:VEVENT
DTSTART;TZID=America/New_York:20260513T183000
DTEND;TZID=America/New_York:20260513T193000
DTSTAMP:20260423T165556
CREATED:20260423T140319Z
LAST-MODIFIED:20260423T140319Z
UID:3944-1778697000-1778700600@gumbranch.org
SUMMARY:Adult Bible Study
DESCRIPTION:Share this:\n				Click to share on X (Opens in new window)\n				X\n			\n				Click to share on Facebook (Opens in new window)\n				Facebook
URL:https://gumbranch.org/event/adult-bible-study-95/
END:VEVENT
BEGIN:VEVENT
DTSTART;TZID=America/New_York:20260513T183000
DTEND;TZID=America/New_York:20260513T193000
DTSTAMP:20260423T165556
CREATED:20260423T140354Z
LAST-MODIFIED:20260423T140354Z
UID:3945-1778697000-1778700600@gumbranch.org
SUMMARY:Discipleship Training
DESCRIPTION:Share this:\n				Click to share on X (Opens in new window)\n				X\n			\n				Click to share on Facebook (Opens in new window)\n				Facebook
URL:https://gumbranch.org/event/discipleship-training-79/
END:VEVENT
BEGIN:VEVENT
DTSTART;TZID=America/New_York:20260513T183000
DTEND;TZID=America/New_York:20260513T193000
DTSTAMP:20260423T165556
CREATED:20260423T140434Z
LAST-MODIFIED:20260423T140434Z
UID:3946-1778697000-1778700600@gumbranch.org
SUMMARY:Youth & Children's Programs
DESCRIPTION:Share this:\n				Click to share on X (Opens in new window)\n				X\n			\n				Click to share on Facebook (Opens in new window)\n				Facebook
URL:https://gumbranch.org/event/youth-childrens-programs-77/
END:VEVENT
BEGIN:VEVENT
DTSTART;TZID=America/New_York:20260513T193000
DTEND;TZID=America/New_York:20260513T200000
DTSTAMP:20260423T165556
CREATED:20260423T140521Z
LAST-MODIFIED:20260423T140521Z
UID:3947-1778700600-1778702400@gumbranch.org
SUMMARY:Church Conference
DESCRIPTION:Share this:\n				Click to share on X (Opens in new window)\n				X\n			\n				Click to share on Facebook (Opens in new window)\n				Facebook
URL:https://gumbranch.org/event/church-conference-9/
END:VEVENT
BEGIN:VEVENT
DTSTART;TZID=America/New_York:20260514T090000
DTEND;TZID=America/New_York:20260514T110000
DTSTAMP:20260423T165556
CREATED:20260423T140552Z
LAST-MODIFIED:20260423T140552Z
UID:3948-1778749200-1778756400@gumbranch.org
SUMMARY:Mother's Ministry
DESCRIPTION:Share this:\n				Click to share on X (Opens in new window)\n				X\n			\n				Click to share on Facebook (Opens in new window)\n				Facebook
URL:https://gumbranch.org/event/mothers-ministry-46/
END:VEVENT
BEGIN:VEVENT
DTSTART;TZID=America/New_York:20260515T183000
DTEND;TZID=America/New_York:20260515T200000
DTSTAMP:20260423T165556
CREATED:20260423T140742Z
LAST-MODIFIED:20260423T140742Z
UID:3949-1778869800-1778875200@gumbranch.org
SUMMARY:Ladies Craft Night
DESCRIPTION:Share this:\n				Click to share on X (Opens in new window)\n				X\n			\n				Click to share on Facebook (Opens in new window)\n				Facebook
URL:https://gumbranch.org/event/ladies-craft-night-25/
END:VEVENT
BEGIN:VEVENT
DTSTART;TZID=America/New_York:20260516T090000
DTEND;TZID=America/New_York:20260516T110000
DTSTAMP:20260423T165556
CREATED:20260423T140834Z
LAST-MODIFIED:20260423T140834Z
UID:3950-1778922000-1778929200@gumbranch.org
SUMMARY:Food Give-Out
DESCRIPTION:Share this:\n				Click to share on X (Opens in new window)\n				X\n			\n				Click to share on Facebook (Opens in new window)\n				Facebook
URL:https://gumbranch.org/event/food-give-out-23/
END:VEVENT
BEGIN:VEVENT
DTSTART;TZID=America/New_York:20260517T090000
DTEND;TZID=America/New_York:20260517T100000
DTSTAMP:20260423T165556
CREATED:20260423T161447Z
LAST-MODIFIED:20260423T161447Z
UID:3951-1779008400-1779012000@gumbranch.org
SUMMARY:Bible Study
DESCRIPTION:Share this:\n				Click to share on X (Opens in new window)\n				X\n			\n				Click to share on Facebook (Opens in new window)\n				Facebook
URL:https://gumbranch.org/event/bible-study-104/
END:VEVENT
BEGIN:VEVENT
DTSTART;TZID=America/New_York:20260517T101500
DTEND;TZID=America/New_York:20260517T113000
DTSTAMP:20260423T165556
CREATED:20260423T161542Z
LAST-MODIFIED:20260423T161542Z
UID:3952-1779012900-1779017400@gumbranch.org
SUMMARY:Morning Worship
DESCRIPTION:Share this:\n				Click to share on X (Opens in new window)\n				X\n			\n				Click to share on Facebook (Opens in new window)\n				Facebook
URL:https://gumbranch.org/event/morning-worship-102/
END:VEVENT
BEGIN:VEVENT
DTSTART;TZID=America/New_York:20260517T160000
DTEND;TZID=America/New_York:20260517T170000
DTSTAMP:20260423T165556
CREATED:20260423T161614Z
LAST-MODIFIED:20260423T161614Z
UID:3953-1779033600-1779037200@gumbranch.org
SUMMARY:Choir Rehearsal
DESCRIPTION:Share this:\n				Click to share on X (Opens in new window)\n				X\n			\n				Click to share on Facebook (Opens in new window)\n				Facebook
URL:https://gumbranch.org/event/choir-rehearsal-83/
END:VEVENT
BEGIN:VEVENT
DTSTART;TZID=America/New_York:20260517T170000
DTEND;TZID=America/New_York:20260517T180000
DTSTAMP:20260423T165556
CREATED:20260423T161649Z
LAST-MODIFIED:20260423T161722Z
UID:3954-1779037200-1779040800@gumbranch.org
SUMMARY:Graduation Service
DESCRIPTION:Share this:\n				Click to share on X (Opens in new window)\n				X\n			\n				Click to share on Facebook (Opens in new window)\n				Facebook
URL:https://gumbranch.org/event/evening-worship-60/
END:VEVENT
BEGIN:VEVENT
DTSTART;TZID=America/New_York:20260519T063000
DTEND;TZID=America/New_York:20260519T073000
DTSTAMP:20260423T165556
CREATED:20260423T161805Z
LAST-MODIFIED:20260423T161805Z
UID:3955-1779172200-1779175800@gumbranch.org
SUMMARY:Men's Prayer Breakfast
DESCRIPTION:Share this:\n				Click to share on X (Opens in new window)\n				X\n			\n				Click to share on Facebook (Opens in new window)\n				Facebook
URL:https://gumbranch.org/event/mens-prayer-breakfast-97/
END:VEVENT
BEGIN:VEVENT
DTSTART;TZID=America/New_York:20260520T173000
DTEND;TZID=America/New_York:20260520T182000
DTSTAMP:20260423T165556
CREATED:20260423T161842Z
LAST-MODIFIED:20260423T161842Z
UID:3956-1779298200-1779301200@gumbranch.org
SUMMARY:Wednesday Meal
DESCRIPTION:Share this:\n				Click to share on X (Opens in new window)\n				X\n			\n				Click to share on Facebook (Opens in new window)\n				Facebook
URL:https://gumbranch.org/event/wednesday-meal-39/
END:VEVENT
BEGIN:VEVENT
DTSTART;TZID=America/New_York:20260520T183000
DTEND;TZID=America/New_York:20260520T193000
DTSTAMP:20260423T165556
CREATED:20260423T161914Z
LAST-MODIFIED:20260423T161914Z
UID:3957-1779301800-1779305400@gumbranch.org
SUMMARY:Adult Bible Study
DESCRIPTION:Share this:\n				Click to share on X (Opens in new window)\n				X\n			\n				Click to share on Facebook (Opens in new window)\n				Facebook
URL:https://gumbranch.org/event/adult-bible-study-96/
END:VEVENT
BEGIN:VEVENT
DTSTART;TZID=America/New_York:20260520T183000
DTEND;TZID=America/New_York:20260520T193000
DTSTAMP:20260423T165556
CREATED:20260423T161949Z
LAST-MODIFIED:20260423T161949Z
UID:3958-1779301800-1779305400@gumbranch.org
SUMMARY:Discipleship Training
DESCRIPTION:Share this:\n				Click to share on X (Opens in new window)\n				X\n			\n				Click to share on Facebook (Opens in new window)\n				Facebook
URL:https://gumbranch.org/event/discipleship-training-80/
END:VEVENT
BEGIN:VEVENT
DTSTART;TZID=America/New_York:20260520T183000
DTEND;TZID=America/New_York:20260520T193000
DTSTAMP:20260423T165556
CREATED:20260423T162033Z
LAST-MODIFIED:20260423T162033Z
UID:3959-1779301800-1779305400@gumbranch.org
SUMMARY:Youth & Children's Programs
DESCRIPTION:Share this:\n				Click to share on X (Opens in new window)\n				X\n			\n				Click to share on Facebook (Opens in new window)\n				Facebook
URL:https://gumbranch.org/event/youth-childrens-programs-78/
END:VEVENT
BEGIN:VEVENT
DTSTART;TZID=America/New_York:20260524T090000
DTEND;TZID=America/New_York:20260524T100000
DTSTAMP:20260423T165556
CREATED:20260423T162127Z
LAST-MODIFIED:20260423T162127Z
UID:3960-1779613200-1779616800@gumbranch.org
SUMMARY:Bible Study
DESCRIPTION:Share this:\n				Click to share on X (Opens in new window)\n				X\n			\n				Click to share on Facebook (Opens in new window)\n				Facebook
URL:https://gumbranch.org/event/bible-study-105/
END:VEVENT
BEGIN:VEVENT
DTSTART;TZID=America/New_York:20260524T101500
DTEND;TZID=America/New_York:20260524T113000
DTSTAMP:20260423T165556
CREATED:20260423T162219Z
LAST-MODIFIED:20260423T162301Z
UID:3961-1779617700-1779622200@gumbranch.org
SUMMARY:Morning Worship/Observance of the Lord's Supper
DESCRIPTION:Share this:\n				Click to share on X (Opens in new window)\n				X\n			\n				Click to share on Facebook (Opens in new window)\n				Facebook
URL:https://gumbranch.org/event/morning-worship-103/
END:VEVENT
BEGIN:VEVENT
DTSTART;VALUE=DATE:20260525
DTEND;VALUE=DATE:20260526
DTSTAMP:20260423T165556
CREATED:20260423T163825Z
LAST-MODIFIED:20260423T163825Z
UID:3963-1779667200-1779753599@gumbranch.org
SUMMARY:Office Closed for Memorial Day
DESCRIPTION:Share this:\n				Click to share on X (Opens in new window)\n				X\n			\n				Click to share on Facebook (Opens in new window)\n				Facebook
URL:https://gumbranch.org/event/office-closed-for-memorial-day/
END:VEVENT
END:VCALENDAR