BEGIN:VCALENDAR
VERSION:2.0
PRODID:-//Gum Branch Baptist Church - ECPv6.15.1//NONSGML v1.0//EN
CALSCALE:GREGORIAN
METHOD:PUBLISH
X-WR-CALNAME:Gum Branch Baptist Church
X-ORIGINAL-URL:https://gumbranch.org
X-WR-CALDESC:Events for Gum Branch Baptist Church
REFRESH-INTERVAL;VALUE=DURATION:PT1H
X-Robots-Tag:noindex
X-PUBLISHED-TTL:PT1H
BEGIN:VTIMEZONE
TZID:America/New_York
BEGIN:DAYLIGHT
TZOFFSETFROM:-0500
TZOFFSETTO:-0400
TZNAME:EDT
DTSTART:20260308T070000
END:DAYLIGHT
BEGIN:STANDARD
TZOFFSETFROM:-0400
TZOFFSETTO:-0500
TZNAME:EST
DTSTART:20261101T060000
END:STANDARD
END:VTIMEZONE
BEGIN:VEVENT
DTSTART;TZID=America/New_York:20260325T173000
DTEND;TZID=America/New_York:20260325T182000
DTSTAMP:20260419T215528
CREATED:20260225T200931Z
LAST-MODIFIED:20260225T200931Z
UID:3863-1774459800-1774462800@gumbranch.org
SUMMARY:Wednesday Meal
DESCRIPTION:Share this:\n				Click to share on X (Opens in new window)\n				X\n			\n				Click to share on Facebook (Opens in new window)\n				Facebook
URL:https://gumbranch.org/event/wednesday-meal-31/
END:VEVENT
BEGIN:VEVENT
DTSTART;TZID=America/New_York:20260325T100000
DTEND;TZID=America/New_York:20260325T120000
DTSTAMP:20260419T215528
CREATED:20260225T200827Z
LAST-MODIFIED:20260225T200827Z
UID:3862-1774432800-1774440000@gumbranch.org
SUMMARY:Ladies Bible Study
DESCRIPTION:Share this:\n				Click to share on X (Opens in new window)\n				X\n			\n				Click to share on Facebook (Opens in new window)\n				Facebook
URL:https://gumbranch.org/event/ladies-bible-study-32/
END:VEVENT
BEGIN:VEVENT
DTSTART;TZID=America/New_York:20260324T063000
DTEND;TZID=America/New_York:20260324T073000
DTSTAMP:20260419T215528
CREATED:20260225T200754Z
LAST-MODIFIED:20260225T200754Z
UID:3861-1774333800-1774337400@gumbranch.org
SUMMARY:Men's Prayer Breakfast
DESCRIPTION:Share this:\n				Click to share on X (Opens in new window)\n				X\n			\n				Click to share on Facebook (Opens in new window)\n				Facebook
URL:https://gumbranch.org/event/mens-prayer-breakfast-89/
END:VEVENT
BEGIN:VEVENT
DTSTART;TZID=America/New_York:20260322T170000
DTEND;TZID=America/New_York:20260322T180000
DTSTAMP:20260419T215528
CREATED:20260225T200627Z
LAST-MODIFIED:20260225T200627Z
UID:3859-1774198800-1774202400@gumbranch.org
SUMMARY:Evening Worship
DESCRIPTION:Share this:\n				Click to share on X (Opens in new window)\n				X\n			\n				Click to share on Facebook (Opens in new window)\n				Facebook
URL:https://gumbranch.org/event/evening-worship-54/
END:VEVENT
BEGIN:VEVENT
DTSTART;TZID=America/New_York:20260322T153000
DTEND;TZID=America/New_York:20260322T170000
DTSTAMP:20260419T215528
CREATED:20260225T200538Z
LAST-MODIFIED:20260226T184216Z
UID:3858-1774193400-1774198800@gumbranch.org
SUMMARY:Choir Rehearsal
DESCRIPTION:Share this:\n				Click to share on X (Opens in new window)\n				X\n			\n				Click to share on Facebook (Opens in new window)\n				Facebook
URL:https://gumbranch.org/event/choir-rehearsal-77/
END:VEVENT
BEGIN:VEVENT
DTSTART;TZID=America/New_York:20260322T111500
DTEND;TZID=America/New_York:20260322T113000
DTSTAMP:20260419T215528
CREATED:20260225T200714Z
LAST-MODIFIED:20260225T200714Z
UID:3860-1774178100-1774179000@gumbranch.org
SUMMARY:Observance of the Lord's Supper
DESCRIPTION:Share this:\n				Click to share on X (Opens in new window)\n				X\n			\n				Click to share on Facebook (Opens in new window)\n				Facebook
URL:https://gumbranch.org/event/observance-of-the-lords-supper-20/
END:VEVENT
BEGIN:VEVENT
DTSTART;TZID=America/New_York:20260322T101500
DTEND;TZID=America/New_York:20260322T113000
DTSTAMP:20260419T215528
CREATED:20260225T200510Z
LAST-MODIFIED:20260225T200510Z
UID:3857-1774174500-1774179000@gumbranch.org
SUMMARY:Morning Worship
DESCRIPTION:Share this:\n				Click to share on X (Opens in new window)\n				X\n			\n				Click to share on Facebook (Opens in new window)\n				Facebook
URL:https://gumbranch.org/event/morning-worship-94/
END:VEVENT
BEGIN:VEVENT
DTSTART;TZID=America/New_York:20260322T090000
DTEND;TZID=America/New_York:20260322T100000
DTSTAMP:20260419T215528
CREATED:20260225T200431Z
LAST-MODIFIED:20260225T200431Z
UID:3856-1774170000-1774173600@gumbranch.org
SUMMARY:Bible Study
DESCRIPTION:Share this:\n				Click to share on X (Opens in new window)\n				X\n			\n				Click to share on Facebook (Opens in new window)\n				Facebook
URL:https://gumbranch.org/event/bible-study-96/
END:VEVENT
BEGIN:VEVENT
DTSTART;TZID=America/New_York:20260321T180000
DTEND;TZID=America/New_York:20260321T193000
DTSTAMP:20260419T215528
CREATED:20260225T200305Z
LAST-MODIFIED:20260225T200330Z
UID:3855-1774116000-1774121400@gumbranch.org
SUMMARY:Men's Ministry Wild Game Feed
DESCRIPTION:Share this:\n				Click to share on X (Opens in new window)\n				X\n			\n				Click to share on Facebook (Opens in new window)\n				Facebook
URL:https://gumbranch.org/event/mens-ministry-wild-game-feed/
END:VEVENT
BEGIN:VEVENT
DTSTART;TZID=America/New_York:20260321T090000
DTEND;TZID=America/New_York:20260321T110000
DTSTAMP:20260419T215528
CREATED:20260225T200211Z
LAST-MODIFIED:20260225T200211Z
UID:3854-1774083600-1774090800@gumbranch.org
SUMMARY:Food Give Out
DESCRIPTION:Share this:\n				Click to share on X (Opens in new window)\n				X\n			\n				Click to share on Facebook (Opens in new window)\n				Facebook
URL:https://gumbranch.org/event/food-give-out-21/
END:VEVENT
BEGIN:VEVENT
DTSTART;TZID=America/New_York:20260320T183000
DTEND;TZID=America/New_York:20260320T193000
DTSTAMP:20260419T215528
CREATED:20260226T183650Z
LAST-MODIFIED:20260226T183650Z
UID:3875-1774031400-1774035000@gumbranch.org
SUMMARY:Ladies Craft Night
DESCRIPTION:Share this:\n				Click to share on X (Opens in new window)\n				X\n			\n				Click to share on Facebook (Opens in new window)\n				Facebook
URL:https://gumbranch.org/event/ladies-craft-night-23/
END:VEVENT
BEGIN:VEVENT
DTSTART;TZID=America/New_York:20260318T183000
DTEND;TZID=America/New_York:20260318T193000
DTSTAMP:20260419T215528
CREATED:20260225T200043Z
LAST-MODIFIED:20260225T200043Z
UID:3853-1773858600-1773862200@gumbranch.org
SUMMARY:Children & Youth Programs
DESCRIPTION:Share this:\n				Click to share on X (Opens in new window)\n				X\n			\n				Click to share on Facebook (Opens in new window)\n				Facebook
URL:https://gumbranch.org/event/children-youth-programs/
END:VEVENT
BEGIN:VEVENT
DTSTART;TZID=America/New_York:20260318T183000
DTEND;TZID=America/New_York:20260318T193000
DTSTAMP:20260419T215528
CREATED:20260225T200002Z
LAST-MODIFIED:20260225T200002Z
UID:3852-1773858600-1773862200@gumbranch.org
SUMMARY:Discipleship Training
DESCRIPTION:Share this:\n				Click to share on X (Opens in new window)\n				X\n			\n				Click to share on Facebook (Opens in new window)\n				Facebook
URL:https://gumbranch.org/event/discipleship-training-71/
END:VEVENT
BEGIN:VEVENT
DTSTART;TZID=America/New_York:20260318T183000
DTEND;TZID=America/New_York:20260318T193000
DTSTAMP:20260419T215528
CREATED:20260225T194908Z
LAST-MODIFIED:20260225T194908Z
UID:3851-1773858600-1773862200@gumbranch.org
SUMMARY:Adult Bible Study
DESCRIPTION:Share this:\n				Click to share on X (Opens in new window)\n				X\n			\n				Click to share on Facebook (Opens in new window)\n				Facebook
URL:https://gumbranch.org/event/adult-bible-study-87/
END:VEVENT
BEGIN:VEVENT
DTSTART;TZID=America/New_York:20260318T173000
DTEND;TZID=America/New_York:20260318T182000
DTSTAMP:20260419T215528
CREATED:20260225T194820Z
LAST-MODIFIED:20260225T194820Z
UID:3850-1773855000-1773858000@gumbranch.org
SUMMARY:Wednesday Meal
DESCRIPTION:Share this:\n				Click to share on X (Opens in new window)\n				X\n			\n				Click to share on Facebook (Opens in new window)\n				Facebook
URL:https://gumbranch.org/event/wednesday-meal-30/
END:VEVENT
BEGIN:VEVENT
DTSTART;TZID=America/New_York:20260318T100000
DTEND;TZID=America/New_York:20260318T120000
DTSTAMP:20260419T215528
CREATED:20260225T194732Z
LAST-MODIFIED:20260225T194732Z
UID:3849-1773828000-1773835200@gumbranch.org
SUMMARY:Ladies Bible Study
DESCRIPTION:Share this:\n				Click to share on X (Opens in new window)\n				X\n			\n				Click to share on Facebook (Opens in new window)\n				Facebook
URL:https://gumbranch.org/event/ladies-bible-study-31/
END:VEVENT
BEGIN:VEVENT
DTSTART;TZID=America/New_York:20260317T063000
DTEND;TZID=America/New_York:20260317T073000
DTSTAMP:20260419T215528
CREATED:20260225T194623Z
LAST-MODIFIED:20260225T194623Z
UID:3848-1773729000-1773732600@gumbranch.org
SUMMARY:Men's Prayer Breakfast
DESCRIPTION:Share this:\n				Click to share on X (Opens in new window)\n				X\n			\n				Click to share on Facebook (Opens in new window)\n				Facebook
URL:https://gumbranch.org/event/mens-prayer-breakfast-88/
END:VEVENT
BEGIN:VEVENT
DTSTART;TZID=America/New_York:20260315T170000
DTEND;TZID=America/New_York:20260315T180000
DTSTAMP:20260419T215528
CREATED:20260225T194511Z
LAST-MODIFIED:20260225T194511Z
UID:3847-1773594000-1773597600@gumbranch.org
SUMMARY:Evening Worship
DESCRIPTION:Share this:\n				Click to share on X (Opens in new window)\n				X\n			\n				Click to share on Facebook (Opens in new window)\n				Facebook
URL:https://gumbranch.org/event/evening-worship-53/
END:VEVENT
BEGIN:VEVENT
DTSTART;TZID=America/New_York:20260315T153000
DTEND;TZID=America/New_York:20260315T170000
DTSTAMP:20260419T215528
CREATED:20260225T194432Z
LAST-MODIFIED:20260226T184136Z
UID:3846-1773588600-1773594000@gumbranch.org
SUMMARY:Choir Rehearsal
DESCRIPTION:Share this:\n				Click to share on X (Opens in new window)\n				X\n			\n				Click to share on Facebook (Opens in new window)\n				Facebook
URL:https://gumbranch.org/event/choir-rehearsal-76/
END:VEVENT
BEGIN:VEVENT
DTSTART;TZID=America/New_York:20260315T101500
DTEND;TZID=America/New_York:20260315T113000
DTSTAMP:20260419T215528
CREATED:20260225T194349Z
LAST-MODIFIED:20260225T194349Z
UID:3845-1773569700-1773574200@gumbranch.org
SUMMARY:Morning Worship
DESCRIPTION:Share this:\n				Click to share on X (Opens in new window)\n				X\n			\n				Click to share on Facebook (Opens in new window)\n				Facebook
URL:https://gumbranch.org/event/morning-worship-93/
END:VEVENT
BEGIN:VEVENT
DTSTART;TZID=America/New_York:20260315T090000
DTEND;TZID=America/New_York:20260315T100000
DTSTAMP:20260419T215528
CREATED:20260225T193701Z
LAST-MODIFIED:20260225T193701Z
UID:3844-1773565200-1773568800@gumbranch.org
SUMMARY:Bible Study
DESCRIPTION:Share this:\n				Click to share on X (Opens in new window)\n				X\n			\n				Click to share on Facebook (Opens in new window)\n				Facebook
URL:https://gumbranch.org/event/bible-study-95/
END:VEVENT
BEGIN:VEVENT
DTSTART;TZID=America/New_York:20260312T090000
DTEND;TZID=America/New_York:20260312T110000
DTSTAMP:20260419T215528
CREATED:20260225T183823Z
LAST-MODIFIED:20260225T183823Z
UID:3832-1773306000-1773313200@gumbranch.org
SUMMARY:Mother's Ministry
DESCRIPTION:Share this:\n				Click to share on X (Opens in new window)\n				X\n			\n				Click to share on Facebook (Opens in new window)\n				Facebook
URL:https://gumbranch.org/event/mothers-ministry-42/
END:VEVENT
BEGIN:VEVENT
DTSTART;TZID=America/New_York:20260311T183000
DTEND;TZID=America/New_York:20260311T193000
DTSTAMP:20260419T215528
CREATED:20260225T193544Z
LAST-MODIFIED:20260225T193544Z
UID:3843-1773253800-1773257400@gumbranch.org
SUMMARY:Youth & Children's Programs
DESCRIPTION:Share this:\n				Click to share on X (Opens in new window)\n				X\n			\n				Click to share on Facebook (Opens in new window)\n				Facebook
URL:https://gumbranch.org/event/youth-childrens-programs-70/
END:VEVENT
BEGIN:VEVENT
DTSTART;TZID=America/New_York:20260311T183000
DTEND;TZID=America/New_York:20260311T193000
DTSTAMP:20260419T215528
CREATED:20260225T193456Z
LAST-MODIFIED:20260225T193456Z
UID:3842-1773253800-1773257400@gumbranch.org
SUMMARY:Discipleship Training
DESCRIPTION:Share this:\n				Click to share on X (Opens in new window)\n				X\n			\n				Click to share on Facebook (Opens in new window)\n				Facebook
URL:https://gumbranch.org/event/discipleship-training-70/
END:VEVENT
BEGIN:VEVENT
DTSTART;TZID=America/New_York:20260311T183000
DTEND;TZID=America/New_York:20260311T193000
DTSTAMP:20260419T215528
CREATED:20260225T193410Z
LAST-MODIFIED:20260225T193410Z
UID:3841-1773253800-1773257400@gumbranch.org
SUMMARY:Adult Bible Study
DESCRIPTION:Share this:\n				Click to share on X (Opens in new window)\n				X\n			\n				Click to share on Facebook (Opens in new window)\n				Facebook
URL:https://gumbranch.org/event/adult-bible-study-86/
END:VEVENT
BEGIN:VEVENT
DTSTART;TZID=America/New_York:20260311T173000
DTEND;TZID=America/New_York:20260311T182000
DTSTAMP:20260419T215528
CREATED:20260225T193332Z
LAST-MODIFIED:20260225T193332Z
UID:3840-1773250200-1773253200@gumbranch.org
SUMMARY:Wednesday Meal
DESCRIPTION:Share this:\n				Click to share on X (Opens in new window)\n				X\n			\n				Click to share on Facebook (Opens in new window)\n				Facebook
URL:https://gumbranch.org/event/wednesday-meal-29/
END:VEVENT
BEGIN:VEVENT
DTSTART;TZID=America/New_York:20260311T100000
DTEND;TZID=America/New_York:20260311T120000
DTSTAMP:20260419T215528
CREATED:20260225T193251Z
LAST-MODIFIED:20260225T193251Z
UID:3839-1773223200-1773230400@gumbranch.org
SUMMARY:Ladies Bible Study
DESCRIPTION:Share this:\n				Click to share on X (Opens in new window)\n				X\n			\n				Click to share on Facebook (Opens in new window)\n				Facebook
URL:https://gumbranch.org/event/ladies-bible-study-30/
END:VEVENT
BEGIN:VEVENT
DTSTART;TZID=America/New_York:20260310T063000
DTEND;TZID=America/New_York:20260310T073000
DTSTAMP:20260419T215528
CREATED:20260225T193218Z
LAST-MODIFIED:20260225T193218Z
UID:3838-1773124200-1773127800@gumbranch.org
SUMMARY:Men's Prayer Breakfast
DESCRIPTION:Share this:\n				Click to share on X (Opens in new window)\n				X\n			\n				Click to share on Facebook (Opens in new window)\n				Facebook
URL:https://gumbranch.org/event/mens-prayer-breakfast-87/
END:VEVENT
BEGIN:VEVENT
DTSTART;TZID=America/New_York:20260308T170000
DTEND;TZID=America/New_York:20260308T180000
DTSTAMP:20260419T215528
CREATED:20260225T193110Z
LAST-MODIFIED:20260225T193110Z
UID:3837-1772989200-1772992800@gumbranch.org
SUMMARY:Evening Worship
DESCRIPTION:Share this:\n				Click to share on X (Opens in new window)\n				X\n			\n				Click to share on Facebook (Opens in new window)\n				Facebook
URL:https://gumbranch.org/event/evening-worship-52/
END:VEVENT
BEGIN:VEVENT
DTSTART;TZID=America/New_York:20260308T153000
DTEND;TZID=America/New_York:20260308T170000
DTSTAMP:20260419T215528
CREATED:20260225T193038Z
LAST-MODIFIED:20260226T184101Z
UID:3836-1772983800-1772989200@gumbranch.org
SUMMARY:Choir Rehearsal
DESCRIPTION:Share this:\n				Click to share on X (Opens in new window)\n				X\n			\n				Click to share on Facebook (Opens in new window)\n				Facebook
URL:https://gumbranch.org/event/choir-rehearsal-75/
END:VEVENT
END:VCALENDAR