BEGIN:VCALENDAR
VERSION:2.0
PRODID:-//Gum Branch Baptist Church - ECPv6.15.1//NONSGML v1.0//EN
CALSCALE:GREGORIAN
METHOD:PUBLISH
X-ORIGINAL-URL:https://gumbranch.org
X-WR-CALDESC:Events for Gum Branch Baptist Church
REFRESH-INTERVAL;VALUE=DURATION:PT1H
X-Robots-Tag:noindex
X-PUBLISHED-TTL:PT1H
BEGIN:VTIMEZONE
TZID:America/New_York
BEGIN:DAYLIGHT
TZOFFSETFROM:-0500
TZOFFSETTO:-0400
TZNAME:EDT
DTSTART:20260308T070000
END:DAYLIGHT
BEGIN:STANDARD
TZOFFSETFROM:-0400
TZOFFSETTO:-0500
TZNAME:EST
DTSTART:20261101T060000
END:STANDARD
END:VTIMEZONE
BEGIN:VEVENT
DTSTART;TZID=America/New_York:20260429T183000
DTEND;TZID=America/New_York:20260429T193000
DTSTAMP:20260419T194516
CREATED:20260325T181323Z
LAST-MODIFIED:20260325T181323Z
UID:3919-1777487400-1777491000@gumbranch.org
SUMMARY:Discipleship Training
DESCRIPTION:Share this:\n				Click to share on X (Opens in new window)\n				X\n			\n				Click to share on Facebook (Opens in new window)\n				Facebook
URL:https://gumbranch.org/event/discipleship-training-77/
END:VEVENT
BEGIN:VEVENT
DTSTART;TZID=America/New_York:20260429T183000
DTEND;TZID=America/New_York:20260429T193000
DTSTAMP:20260419T194516
CREATED:20260325T181412Z
LAST-MODIFIED:20260325T181412Z
UID:3920-1777487400-1777491000@gumbranch.org
SUMMARY:Youth & Children's Programs
DESCRIPTION:Share this:\n				Click to share on X (Opens in new window)\n				X\n			\n				Click to share on Facebook (Opens in new window)\n				Facebook
URL:https://gumbranch.org/event/youth-childrens-programs-75/
END:VEVENT
END:VCALENDAR