BEGIN:VCALENDAR
VERSION:2.0
PRODID:-//Gum Branch Baptist Church - ECPv6.15.1//NONSGML v1.0//EN
CALSCALE:GREGORIAN
METHOD:PUBLISH
X-WR-CALNAME:Gum Branch Baptist Church
X-ORIGINAL-URL:https://gumbranch.org
X-WR-CALDESC:Events for Gum Branch Baptist Church
REFRESH-INTERVAL;VALUE=DURATION:PT1H
X-Robots-Tag:noindex
X-PUBLISHED-TTL:PT1H
BEGIN:VTIMEZONE
TZID:America/New_York
BEGIN:DAYLIGHT
TZOFFSETFROM:-0500
TZOFFSETTO:-0400
TZNAME:EDT
DTSTART:20250309T070000
END:DAYLIGHT
BEGIN:STANDARD
TZOFFSETFROM:-0400
TZOFFSETTO:-0500
TZNAME:EST
DTSTART:20251102T060000
END:STANDARD
END:VTIMEZONE
BEGIN:VEVENT
DTSTART;TZID=America/New_York:20251211T090000
DTEND;TZID=America/New_York:20251211T110000
DTSTAMP:20260422T181121
CREATED:20251203T180904Z
LAST-MODIFIED:20251203T180904Z
UID:3698-1765443600-1765450800@gumbranch.org
SUMMARY:Mother's Ministry
DESCRIPTION:Share this:\n				Click to share on X (Opens in new window)\n				X\n			\n				Click to share on Facebook (Opens in new window)\n				Facebook
URL:https://gumbranch.org/event/mothers-ministry-37/
END:VEVENT
BEGIN:VEVENT
DTSTART;TZID=America/New_York:20251210T183000
DTEND;TZID=America/New_York:20251210T193000
DTSTAMP:20260422T181121
CREATED:20251203T180827Z
LAST-MODIFIED:20251203T180827Z
UID:3697-1765391400-1765395000@gumbranch.org
SUMMARY:Youth & Children's Programs
DESCRIPTION:Share this:\n				Click to share on X (Opens in new window)\n				X\n			\n				Click to share on Facebook (Opens in new window)\n				Facebook
URL:https://gumbranch.org/event/youth-childrens-programs-59/
END:VEVENT
BEGIN:VEVENT
DTSTART;TZID=America/New_York:20251210T183000
DTEND;TZID=America/New_York:20251210T193000
DTSTAMP:20260422T181121
CREATED:20251203T180749Z
LAST-MODIFIED:20251203T180749Z
UID:3696-1765391400-1765395000@gumbranch.org
SUMMARY:Discipleship Training
DESCRIPTION:Share this:\n				Click to share on X (Opens in new window)\n				X\n			\n				Click to share on Facebook (Opens in new window)\n				Facebook
URL:https://gumbranch.org/event/discipleship-training-59/
END:VEVENT
BEGIN:VEVENT
DTSTART;TZID=America/New_York:20251210T183000
DTEND;TZID=America/New_York:20251210T193000
DTSTAMP:20260422T181121
CREATED:20251203T180707Z
LAST-MODIFIED:20251203T180707Z
UID:3695-1765391400-1765395000@gumbranch.org
SUMMARY:Adult Bible Study
DESCRIPTION:Share this:\n				Click to share on X (Opens in new window)\n				X\n			\n				Click to share on Facebook (Opens in new window)\n				Facebook
URL:https://gumbranch.org/event/adult-bible-study-75/
END:VEVENT
BEGIN:VEVENT
DTSTART;TZID=America/New_York:20251209T063000
DTEND;TZID=America/New_York:20251209T073000
DTSTAMP:20260422T181121
CREATED:20251203T180622Z
LAST-MODIFIED:20251203T180622Z
UID:3694-1765261800-1765265400@gumbranch.org
SUMMARY:Men's Prayer Breakfast
DESCRIPTION:Share this:\n				Click to share on X (Opens in new window)\n				X\n			\n				Click to share on Facebook (Opens in new window)\n				Facebook
URL:https://gumbranch.org/event/mens-prayer-breakfast-76/
END:VEVENT
BEGIN:VEVENT
DTSTART;TZID=America/New_York:20251207T170000
DTEND;TZID=America/New_York:20251207T180000
DTSTAMP:20260422T181121
CREATED:20251203T180542Z
LAST-MODIFIED:20251203T180542Z
UID:3693-1765126800-1765130400@gumbranch.org
SUMMARY:Evening Worship/Children's Choir
DESCRIPTION:Share this:\n				Click to share on X (Opens in new window)\n				X\n			\n				Click to share on Facebook (Opens in new window)\n				Facebook
URL:https://gumbranch.org/event/evening-worship-childrens-choir/
END:VEVENT
BEGIN:VEVENT
DTSTART;TZID=America/New_York:20251207T160000
DTEND;TZID=America/New_York:20251207T170000
DTSTAMP:20260422T181121
CREATED:20251203T180454Z
LAST-MODIFIED:20251203T180454Z
UID:3692-1765123200-1765126800@gumbranch.org
SUMMARY:Choir Rehearsal
DESCRIPTION:Share this:\n				Click to share on X (Opens in new window)\n				X\n			\n				Click to share on Facebook (Opens in new window)\n				Facebook
URL:https://gumbranch.org/event/choir-rehearsal-67/
END:VEVENT
BEGIN:VEVENT
DTSTART;TZID=America/New_York:20251207T101500
DTEND;TZID=America/New_York:20251207T113000
DTSTAMP:20260422T181121
CREATED:20251203T180415Z
LAST-MODIFIED:20251203T180415Z
UID:3691-1765102500-1765107000@gumbranch.org
SUMMARY:Morning Worship
DESCRIPTION:Share this:\n				Click to share on X (Opens in new window)\n				X\n			\n				Click to share on Facebook (Opens in new window)\n				Facebook
URL:https://gumbranch.org/event/morning-worship-80/
END:VEVENT
BEGIN:VEVENT
DTSTART;TZID=America/New_York:20251207T090000
DTEND;TZID=America/New_York:20251207T100000
DTSTAMP:20260422T181121
CREATED:20251203T180331Z
LAST-MODIFIED:20251203T180331Z
UID:3690-1765098000-1765101600@gumbranch.org
SUMMARY:Bible Study
DESCRIPTION:Share this:\n				Click to share on X (Opens in new window)\n				X\n			\n				Click to share on Facebook (Opens in new window)\n				Facebook
URL:https://gumbranch.org/event/bible-study-82/
END:VEVENT
BEGIN:VEVENT
DTSTART;TZID=America/New_York:20251205T183000
DTEND;TZID=America/New_York:20251205T193000
DTSTAMP:20260422T181121
CREATED:20251203T180253Z
LAST-MODIFIED:20251203T180253Z
UID:3689-1764959400-1764963000@gumbranch.org
SUMMARY:Women's Ministry Ornament Exchange
DESCRIPTION:Share this:\n				Click to share on X (Opens in new window)\n				X\n			\n				Click to share on Facebook (Opens in new window)\n				Facebook
URL:https://gumbranch.org/event/womens-ministry-ornament-exchange/
END:VEVENT
BEGIN:VEVENT
DTSTART;TZID=America/New_York:20251203T183000
DTEND;TZID=America/New_York:20251203T193000
DTSTAMP:20260422T181121
CREATED:20251203T180145Z
LAST-MODIFIED:20251203T180145Z
UID:3688-1764786600-1764790200@gumbranch.org
SUMMARY:Youth & Children's Programs
DESCRIPTION:Share this:\n				Click to share on X (Opens in new window)\n				X\n			\n				Click to share on Facebook (Opens in new window)\n				Facebook
URL:https://gumbranch.org/event/youth-childrens-programs-58/
END:VEVENT
BEGIN:VEVENT
DTSTART;TZID=America/New_York:20251203T183000
DTEND;TZID=America/New_York:20251203T193000
DTSTAMP:20260422T181121
CREATED:20251203T180039Z
LAST-MODIFIED:20251203T180039Z
UID:3686-1764786600-1764790200@gumbranch.org
SUMMARY:Discipleship Training
DESCRIPTION:Share this:\n				Click to share on X (Opens in new window)\n				X\n			\n				Click to share on Facebook (Opens in new window)\n				Facebook
URL:https://gumbranch.org/event/discipleship-training-58/
END:VEVENT
BEGIN:VEVENT
DTSTART;TZID=America/New_York:20251203T183000
DTEND;TZID=America/New_York:20251203T193000
DTSTAMP:20260422T181121
CREATED:20251203T175923Z
LAST-MODIFIED:20251203T175923Z
UID:3685-1764786600-1764790200@gumbranch.org
SUMMARY:Adult Bible Study
DESCRIPTION:Share this:\n				Click to share on X (Opens in new window)\n				X\n			\n				Click to share on Facebook (Opens in new window)\n				Facebook
URL:https://gumbranch.org/event/adult-bible-study-74/
END:VEVENT
BEGIN:VEVENT
DTSTART;TZID=America/New_York:20251202T063000
DTEND;TZID=America/New_York:20251202T073000
DTSTAMP:20260422T181121
CREATED:20251203T175845Z
LAST-MODIFIED:20251203T175845Z
UID:3684-1764657000-1764660600@gumbranch.org
SUMMARY:Men's Prayer Breakfast
DESCRIPTION:Share this:\n				Click to share on X (Opens in new window)\n				X\n			\n				Click to share on Facebook (Opens in new window)\n				Facebook
URL:https://gumbranch.org/event/mens-prayer-breakfast-75/
END:VEVENT
BEGIN:VEVENT
DTSTART;TZID=America/New_York:20251130T170000
DTEND;TZID=America/New_York:20251130T180000
DTSTAMP:20260422T181121
CREATED:20251029T184729Z
LAST-MODIFIED:20251029T184729Z
UID:3678-1764522000-1764525600@gumbranch.org
SUMMARY:"The Hanging of the Greens"
DESCRIPTION:Share this:\n				Click to share on X (Opens in new window)\n				X\n			\n				Click to share on Facebook (Opens in new window)\n				Facebook
URL:https://gumbranch.org/event/the-hanging-of-the-greens/
END:VEVENT
BEGIN:VEVENT
DTSTART;TZID=America/New_York:20251130T160000
DTEND;TZID=America/New_York:20251130T170000
DTSTAMP:20260422T181121
CREATED:20251029T184647Z
LAST-MODIFIED:20251029T184647Z
UID:3677-1764518400-1764522000@gumbranch.org
SUMMARY:Children's Choir
DESCRIPTION:Share this:\n				Click to share on X (Opens in new window)\n				X\n			\n				Click to share on Facebook (Opens in new window)\n				Facebook
URL:https://gumbranch.org/event/childrens-choir-5/
END:VEVENT
BEGIN:VEVENT
DTSTART;TZID=America/New_York:20251130T101500
DTEND;TZID=America/New_York:20251130T113000
DTSTAMP:20260422T181121
CREATED:20251029T184555Z
LAST-MODIFIED:20251029T184555Z
UID:3676-1764497700-1764502200@gumbranch.org
SUMMARY:Morning Worship
DESCRIPTION:Share this:\n				Click to share on X (Opens in new window)\n				X\n			\n				Click to share on Facebook (Opens in new window)\n				Facebook
URL:https://gumbranch.org/event/morning-worship-79/
END:VEVENT
BEGIN:VEVENT
DTSTART;TZID=America/New_York:20251130T090000
DTEND;TZID=America/New_York:20251130T100000
DTSTAMP:20260422T181121
CREATED:20251029T183254Z
LAST-MODIFIED:20251029T183254Z
UID:3675-1764493200-1764496800@gumbranch.org
SUMMARY:Bible Study
DESCRIPTION:Share this:\n				Click to share on X (Opens in new window)\n				X\n			\n				Click to share on Facebook (Opens in new window)\n				Facebook
URL:https://gumbranch.org/event/bible-study-81/
END:VEVENT
BEGIN:VEVENT
DTSTART;VALUE=DATE:20251126
DTEND;VALUE=DATE:20251127
DTSTAMP:20260422T181121
CREATED:20251029T183156Z
LAST-MODIFIED:20251029T183156Z
UID:3674-1764115200-1764201599@gumbranch.org
SUMMARY:No Services
DESCRIPTION:Share this:\n				Click to share on X (Opens in new window)\n				X\n			\n				Click to share on Facebook (Opens in new window)\n				Facebook
URL:https://gumbranch.org/event/no-services-3/
END:VEVENT
BEGIN:VEVENT
DTSTART;TZID=America/New_York:20251125T063000
DTEND;TZID=America/New_York:20251125T073000
DTSTAMP:20260422T181121
CREATED:20251029T182833Z
LAST-MODIFIED:20251029T182833Z
UID:3672-1764052200-1764055800@gumbranch.org
SUMMARY:Men's Prayer Breakfast
DESCRIPTION:Share this:\n				Click to share on X (Opens in new window)\n				X\n			\n				Click to share on Facebook (Opens in new window)\n				Facebook
URL:https://gumbranch.org/event/mens-prayer-breakfast-74/
END:VEVENT
BEGIN:VEVENT
DTSTART;VALUE=DATE:20251125
DTEND;VALUE=DATE:20251128
DTSTAMP:20260422T181121
CREATED:20251029T182859Z
LAST-MODIFIED:20251029T183005Z
UID:3673-1764028800-1764287999@gumbranch.org
SUMMARY:Office Closed
DESCRIPTION:Share this:\n				Click to share on X (Opens in new window)\n				X\n			\n				Click to share on Facebook (Opens in new window)\n				Facebook
URL:https://gumbranch.org/event/office-closed-13/
END:VEVENT
BEGIN:VEVENT
DTSTART;TZID=America/New_York:20251123T170000
DTEND;TZID=America/New_York:20251123T180000
DTSTAMP:20260422T181121
CREATED:20251029T182727Z
LAST-MODIFIED:20251029T182727Z
UID:3671-1763917200-1763920800@gumbranch.org
SUMMARY:Children's Choir
DESCRIPTION:Share this:\n				Click to share on X (Opens in new window)\n				X\n			\n				Click to share on Facebook (Opens in new window)\n				Facebook
URL:https://gumbranch.org/event/childrens-choir-4/
END:VEVENT
BEGIN:VEVENT
DTSTART;TZID=America/New_York:20251123T170000
DTEND;TZID=America/New_York:20251123T180000
DTSTAMP:20260422T181121
CREATED:20251029T182647Z
LAST-MODIFIED:20251029T182647Z
UID:3670-1763917200-1763920800@gumbranch.org
SUMMARY:Evening Worship
DESCRIPTION:Share this:\n				Click to share on X (Opens in new window)\n				X\n			\n				Click to share on Facebook (Opens in new window)\n				Facebook
URL:https://gumbranch.org/event/evening-worship-48/
END:VEVENT
BEGIN:VEVENT
DTSTART;TZID=America/New_York:20251123T160000
DTEND;TZID=America/New_York:20251123T170000
DTSTAMP:20260422T181121
CREATED:20251029T182610Z
LAST-MODIFIED:20251029T182610Z
UID:3669-1763913600-1763917200@gumbranch.org
SUMMARY:Choir Rehearsal
DESCRIPTION:Share this:\n				Click to share on X (Opens in new window)\n				X\n			\n				Click to share on Facebook (Opens in new window)\n				Facebook
URL:https://gumbranch.org/event/choir-rehearsal-66/
END:VEVENT
BEGIN:VEVENT
DTSTART;TZID=America/New_York:20251123T101500
DTEND;TZID=America/New_York:20251123T113000
DTSTAMP:20260422T181121
CREATED:20251029T182535Z
LAST-MODIFIED:20251029T182535Z
UID:3668-1763892900-1763897400@gumbranch.org
SUMMARY:Morning Worship
DESCRIPTION:Share this:\n				Click to share on X (Opens in new window)\n				X\n			\n				Click to share on Facebook (Opens in new window)\n				Facebook
URL:https://gumbranch.org/event/morning-worship-78/
END:VEVENT
BEGIN:VEVENT
DTSTART;TZID=America/New_York:20251123T090000
DTEND;TZID=America/New_York:20251123T100000
DTSTAMP:20260422T181121
CREATED:20251029T182447Z
LAST-MODIFIED:20251029T182447Z
UID:3667-1763888400-1763892000@gumbranch.org
SUMMARY:Bible Study
DESCRIPTION:Share this:\n				Click to share on X (Opens in new window)\n				X\n			\n				Click to share on Facebook (Opens in new window)\n				Facebook
URL:https://gumbranch.org/event/bible-study-80/
END:VEVENT
BEGIN:VEVENT
DTSTART;TZID=America/New_York:20251120T183000
DTEND;TZID=America/New_York:20251120T193000
DTSTAMP:20260422T181121
CREATED:20251029T182144Z
LAST-MODIFIED:20251029T182144Z
UID:3666-1763663400-1763667000@gumbranch.org
SUMMARY:Hanging of the Greens Practice
DESCRIPTION:Share this:\n				Click to share on X (Opens in new window)\n				X\n			\n				Click to share on Facebook (Opens in new window)\n				Facebook
URL:https://gumbranch.org/event/hanging-of-the-greens-practice/
END:VEVENT
BEGIN:VEVENT
DTSTART;TZID=America/New_York:20251119T183000
DTEND;TZID=America/New_York:20251119T193000
DTSTAMP:20260422T181121
CREATED:20251029T182042Z
LAST-MODIFIED:20251029T182042Z
UID:3665-1763577000-1763580600@gumbranch.org
SUMMARY:Youth & Children's Programs
DESCRIPTION:Share this:\n				Click to share on X (Opens in new window)\n				X\n			\n				Click to share on Facebook (Opens in new window)\n				Facebook
URL:https://gumbranch.org/event/youth-childrens-programs-57/
END:VEVENT
BEGIN:VEVENT
DTSTART;TZID=America/New_York:20251119T183000
DTEND;TZID=America/New_York:20251119T193000
DTSTAMP:20260422T181121
CREATED:20251029T181953Z
LAST-MODIFIED:20251029T181953Z
UID:3664-1763577000-1763580600@gumbranch.org
SUMMARY:Discipleship Training
DESCRIPTION:Share this:\n				Click to share on X (Opens in new window)\n				X\n			\n				Click to share on Facebook (Opens in new window)\n				Facebook
URL:https://gumbranch.org/event/discipleship-training-57/
END:VEVENT
BEGIN:VEVENT
DTSTART;TZID=America/New_York:20251119T183000
DTEND;TZID=America/New_York:20251119T193000
DTSTAMP:20260422T181121
CREATED:20251029T181918Z
LAST-MODIFIED:20251029T181918Z
UID:3663-1763577000-1763580600@gumbranch.org
SUMMARY:Adult Bible Study
DESCRIPTION:Share this:\n				Click to share on X (Opens in new window)\n				X\n			\n				Click to share on Facebook (Opens in new window)\n				Facebook
URL:https://gumbranch.org/event/adult-bible-study-73/
END:VEVENT
END:VCALENDAR