BEGIN:VCALENDAR
VERSION:2.0
PRODID:-//Gum Branch Baptist Church - ECPv6.15.1//NONSGML v1.0//EN
CALSCALE:GREGORIAN
METHOD:PUBLISH
X-WR-CALNAME:Gum Branch Baptist Church
X-ORIGINAL-URL:https://gumbranch.org
X-WR-CALDESC:Events for Gum Branch Baptist Church
REFRESH-INTERVAL;VALUE=DURATION:PT1H
X-Robots-Tag:noindex
X-PUBLISHED-TTL:PT1H
BEGIN:VTIMEZONE
TZID:America/New_York
BEGIN:DAYLIGHT
TZOFFSETFROM:-0500
TZOFFSETTO:-0400
TZNAME:EDT
DTSTART:20250309T070000
END:DAYLIGHT
BEGIN:STANDARD
TZOFFSETFROM:-0400
TZOFFSETTO:-0500
TZNAME:EST
DTSTART:20251102T060000
END:STANDARD
END:VTIMEZONE
BEGIN:VEVENT
DTSTART;TZID=America/New_York:20251019T160000
DTEND;TZID=America/New_York:20251019T170000
DTSTAMP:20260423T053209
CREATED:20250924T190502Z
LAST-MODIFIED:20250924T190502Z
UID:3612-1760889600-1760893200@gumbranch.org
SUMMARY:Choir Rehearsal
DESCRIPTION:Share this:\n				Click to share on X (Opens in new window)\n				X\n			\n				Click to share on Facebook (Opens in new window)\n				Facebook
URL:https://gumbranch.org/event/choir-rehearsal-61/
END:VEVENT
BEGIN:VEVENT
DTSTART;TZID=America/New_York:20251019T111500
DTEND;TZID=America/New_York:20251019T113000
DTSTAMP:20260423T053209
CREATED:20250924T190808Z
LAST-MODIFIED:20250924T190808Z
UID:3614-1760872500-1760873400@gumbranch.org
SUMMARY:Observance of the Lord's Supper
DESCRIPTION:Share this:\n				Click to share on X (Opens in new window)\n				X\n			\n				Click to share on Facebook (Opens in new window)\n				Facebook
URL:https://gumbranch.org/event/observance-of-the-lords-supper-15/
END:VEVENT
BEGIN:VEVENT
DTSTART;TZID=America/New_York:20251019T101500
DTEND;TZID=America/New_York:20251019T113000
DTSTAMP:20260423T053209
CREATED:20250924T190424Z
LAST-MODIFIED:20250924T190424Z
UID:3611-1760868900-1760873400@gumbranch.org
SUMMARY:Morning Worship
DESCRIPTION:Share this:\n				Click to share on X (Opens in new window)\n				X\n			\n				Click to share on Facebook (Opens in new window)\n				Facebook
URL:https://gumbranch.org/event/morning-worship-73/
END:VEVENT
BEGIN:VEVENT
DTSTART;TZID=America/New_York:20251019T090000
DTEND;TZID=America/New_York:20251019T100000
DTSTAMP:20260423T053209
CREATED:20250924T190339Z
LAST-MODIFIED:20250924T190339Z
UID:3610-1760864400-1760868000@gumbranch.org
SUMMARY:Bible Study
DESCRIPTION:Share this:\n				Click to share on X (Opens in new window)\n				X\n			\n				Click to share on Facebook (Opens in new window)\n				Facebook
URL:https://gumbranch.org/event/bible-study-75/
END:VEVENT
BEGIN:VEVENT
DTSTART;TZID=America/New_York:20251018T090000
DTEND;TZID=America/New_York:20251018T110000
DTSTAMP:20260423T053209
CREATED:20250924T190230Z
LAST-MODIFIED:20250924T190230Z
UID:3609-1760778000-1760785200@gumbranch.org
SUMMARY:Food Give-Out
DESCRIPTION:Share this:\n				Click to share on X (Opens in new window)\n				X\n			\n				Click to share on Facebook (Opens in new window)\n				Facebook
URL:https://gumbranch.org/event/food-give-out-16/
END:VEVENT
BEGIN:VEVENT
DTSTART;TZID=America/New_York:20251015T183000
DTEND;TZID=America/New_York:20251015T193000
DTSTAMP:20260423T053209
CREATED:20250924T190156Z
LAST-MODIFIED:20250924T190156Z
UID:3608-1760553000-1760556600@gumbranch.org
SUMMARY:Youth & Children's Programs
DESCRIPTION:Share this:\n				Click to share on X (Opens in new window)\n				X\n			\n				Click to share on Facebook (Opens in new window)\n				Facebook
URL:https://gumbranch.org/event/youth-childrens-programs-52/
END:VEVENT
BEGIN:VEVENT
DTSTART;TZID=America/New_York:20251015T183000
DTEND;TZID=America/New_York:20251015T193000
DTSTAMP:20260423T053209
CREATED:20250924T190120Z
LAST-MODIFIED:20250924T190120Z
UID:3607-1760553000-1760556600@gumbranch.org
SUMMARY:Discipleship Training
DESCRIPTION:Share this:\n				Click to share on X (Opens in new window)\n				X\n			\n				Click to share on Facebook (Opens in new window)\n				Facebook
URL:https://gumbranch.org/event/discipleship-training-52/
END:VEVENT
BEGIN:VEVENT
DTSTART;TZID=America/New_York:20251015T183000
DTEND;TZID=America/New_York:20251015T193000
DTSTAMP:20260423T053209
CREATED:20250924T190049Z
LAST-MODIFIED:20250924T190049Z
UID:3606-1760553000-1760556600@gumbranch.org
SUMMARY:Adult Bible Study
DESCRIPTION:Share this:\n				Click to share on X (Opens in new window)\n				X\n			\n				Click to share on Facebook (Opens in new window)\n				Facebook
URL:https://gumbranch.org/event/adult-bible-study-68/
END:VEVENT
BEGIN:VEVENT
DTSTART;TZID=America/New_York:20251015T100000
DTEND;TZID=America/New_York:20251015T120000
DTSTAMP:20260423T053209
CREATED:20250924T185912Z
LAST-MODIFIED:20250924T185912Z
UID:3605-1760522400-1760529600@gumbranch.org
SUMMARY:Women's Bible Study
DESCRIPTION:Share this:\n				Click to share on X (Opens in new window)\n				X\n			\n				Click to share on Facebook (Opens in new window)\n				Facebook
URL:https://gumbranch.org/event/womens-bible-study-13/
END:VEVENT
BEGIN:VEVENT
DTSTART;TZID=America/New_York:20251014T063000
DTEND;TZID=America/New_York:20251014T073000
DTSTAMP:20260423T053209
CREATED:20250924T185826Z
LAST-MODIFIED:20250924T185826Z
UID:3604-1760423400-1760427000@gumbranch.org
SUMMARY:Men's Prayer Breakfast
DESCRIPTION:Share this:\n				Click to share on X (Opens in new window)\n				X\n			\n				Click to share on Facebook (Opens in new window)\n				Facebook
URL:https://gumbranch.org/event/mens-prayer-breakfast-68/
END:VEVENT
BEGIN:VEVENT
DTSTART;VALUE=DATE:20251013
DTEND;VALUE=DATE:20251014
DTSTAMP:20260423T053209
CREATED:20250924T185743Z
LAST-MODIFIED:20250924T185743Z
UID:3603-1760313600-1760399999@gumbranch.org
SUMMARY:Office Closed
DESCRIPTION:Share this:\n				Click to share on X (Opens in new window)\n				X\n			\n				Click to share on Facebook (Opens in new window)\n				Facebook
URL:https://gumbranch.org/event/office-closed-12/
END:VEVENT
BEGIN:VEVENT
DTSTART;TZID=America/New_York:20251012T160000
DTEND;TZID=America/New_York:20251012T180000
DTSTAMP:20260423T053209
CREATED:20250924T185713Z
LAST-MODIFIED:20250924T185713Z
UID:3602-1760284800-1760292000@gumbranch.org
SUMMARY:No Evening Services
DESCRIPTION:Share this:\n				Click to share on X (Opens in new window)\n				X\n			\n				Click to share on Facebook (Opens in new window)\n				Facebook
URL:https://gumbranch.org/event/no-evening-services-2/
END:VEVENT
BEGIN:VEVENT
DTSTART;TZID=America/New_York:20251011T110000
DTEND;TZID=America/New_York:20251011T123000
DTSTAMP:20260423T053209
CREATED:20250924T184954Z
LAST-MODIFIED:20250924T184954Z
UID:3598-1760180400-1760185800@gumbranch.org
SUMMARY:Women's Ministry Luncheon
DESCRIPTION:Share this:\n				Click to share on X (Opens in new window)\n				X\n			\n				Click to share on Facebook (Opens in new window)\n				Facebook
URL:https://gumbranch.org/event/womens-ministry-luncheon/
END:VEVENT
BEGIN:VEVENT
DTSTART;TZID=America/New_York:20251009T090000
DTEND;TZID=America/New_York:20251009T110000
DTSTAMP:20260423T053209
CREATED:20250924T184859Z
LAST-MODIFIED:20250924T184859Z
UID:3597-1760000400-1760007600@gumbranch.org
SUMMARY:Mother's Ministry
DESCRIPTION:Share this:\n				Click to share on X (Opens in new window)\n				X\n			\n				Click to share on Facebook (Opens in new window)\n				Facebook
URL:https://gumbranch.org/event/mothers-ministry-34/
END:VEVENT
BEGIN:VEVENT
DTSTART;TZID=America/New_York:20251008T183000
DTEND;TZID=America/New_York:20251008T193000
DTSTAMP:20260423T053209
CREATED:20250924T184817Z
LAST-MODIFIED:20250924T184817Z
UID:3596-1759948200-1759951800@gumbranch.org
SUMMARY:Youth & Children's Programs
DESCRIPTION:Share this:\n				Click to share on X (Opens in new window)\n				X\n			\n				Click to share on Facebook (Opens in new window)\n				Facebook
URL:https://gumbranch.org/event/youth-childrens-programs-51/
END:VEVENT
BEGIN:VEVENT
DTSTART;TZID=America/New_York:20251008T183000
DTEND;TZID=America/New_York:20251008T193000
DTSTAMP:20260423T053209
CREATED:20250924T184732Z
LAST-MODIFIED:20250924T184732Z
UID:3595-1759948200-1759951800@gumbranch.org
SUMMARY:Discipleship Training
DESCRIPTION:Share this:\n				Click to share on X (Opens in new window)\n				X\n			\n				Click to share on Facebook (Opens in new window)\n				Facebook
URL:https://gumbranch.org/event/discipleship-training-51/
END:VEVENT
BEGIN:VEVENT
DTSTART;TZID=America/New_York:20251008T183000
DTEND;TZID=America/New_York:20251008T193000
DTSTAMP:20260423T053209
CREATED:20250924T184655Z
LAST-MODIFIED:20250924T184655Z
UID:3594-1759948200-1759951800@gumbranch.org
SUMMARY:Adult Bible Study
DESCRIPTION:Share this:\n				Click to share on X (Opens in new window)\n				X\n			\n				Click to share on Facebook (Opens in new window)\n				Facebook
URL:https://gumbranch.org/event/adult-bible-study-67/
END:VEVENT
BEGIN:VEVENT
DTSTART;TZID=America/New_York:20251008T100000
DTEND;TZID=America/New_York:20251008T120000
DTSTAMP:20260423T053209
CREATED:20250924T184456Z
LAST-MODIFIED:20250924T184456Z
UID:3593-1759917600-1759924800@gumbranch.org
SUMMARY:Women's Bible Study
DESCRIPTION:Share this:\n				Click to share on X (Opens in new window)\n				X\n			\n				Click to share on Facebook (Opens in new window)\n				Facebook
URL:https://gumbranch.org/event/womens-bible-study-12/
END:VEVENT
BEGIN:VEVENT
DTSTART;TZID=America/New_York:20251007T063000
DTEND;TZID=America/New_York:20251007T073000
DTSTAMP:20260423T053209
CREATED:20250924T184412Z
LAST-MODIFIED:20250924T184412Z
UID:3592-1759818600-1759822200@gumbranch.org
SUMMARY:Men's Prayer Breakfast
DESCRIPTION:Share this:\n				Click to share on X (Opens in new window)\n				X\n			\n				Click to share on Facebook (Opens in new window)\n				Facebook
URL:https://gumbranch.org/event/mens-prayer-breakfast-67/
END:VEVENT
BEGIN:VEVENT
DTSTART;TZID=America/New_York:20251005T170000
DTEND;TZID=America/New_York:20251005T180000
DTSTAMP:20260423T053209
CREATED:20250924T184325Z
LAST-MODIFIED:20250924T184325Z
UID:3591-1759683600-1759687200@gumbranch.org
SUMMARY:Evening Worship
DESCRIPTION:Share this:\n				Click to share on X (Opens in new window)\n				X\n			\n				Click to share on Facebook (Opens in new window)\n				Facebook
URL:https://gumbranch.org/event/evening-worship-44/
END:VEVENT
BEGIN:VEVENT
DTSTART;TZID=America/New_York:20251005T160000
DTEND;TZID=America/New_York:20251005T170000
DTSTAMP:20260423T053209
CREATED:20250924T184254Z
LAST-MODIFIED:20250924T184254Z
UID:3590-1759680000-1759683600@gumbranch.org
SUMMARY:Choir Rehearsal
DESCRIPTION:Share this:\n				Click to share on X (Opens in new window)\n				X\n			\n				Click to share on Facebook (Opens in new window)\n				Facebook
URL:https://gumbranch.org/event/choir-rehearsal-60/
END:VEVENT
BEGIN:VEVENT
DTSTART;TZID=America/New_York:20251005T101500
DTEND;TZID=America/New_York:20251005T113000
DTSTAMP:20260423T053209
CREATED:20250924T184219Z
LAST-MODIFIED:20250924T184219Z
UID:3589-1759659300-1759663800@gumbranch.org
SUMMARY:Morning Worship
DESCRIPTION:Share this:\n				Click to share on X (Opens in new window)\n				X\n			\n				Click to share on Facebook (Opens in new window)\n				Facebook
URL:https://gumbranch.org/event/morning-worship-72/
END:VEVENT
BEGIN:VEVENT
DTSTART;TZID=America/New_York:20251005T090000
DTEND;TZID=America/New_York:20251005T100000
DTSTAMP:20260423T053209
CREATED:20250924T184137Z
LAST-MODIFIED:20250924T184137Z
UID:3588-1759654800-1759658400@gumbranch.org
SUMMARY:Bible Study
DESCRIPTION:Share this:\n				Click to share on X (Opens in new window)\n				X\n			\n				Click to share on Facebook (Opens in new window)\n				Facebook
URL:https://gumbranch.org/event/bible-study-74/
END:VEVENT
BEGIN:VEVENT
DTSTART;TZID=America/New_York:20251001T183000
DTEND;TZID=America/New_York:20251001T193000
DTSTAMP:20260423T053209
CREATED:20250924T183933Z
LAST-MODIFIED:20250924T183933Z
UID:3587-1759343400-1759347000@gumbranch.org
SUMMARY:Youth & Children's Programs
DESCRIPTION:Share this:\n				Click to share on X (Opens in new window)\n				X\n			\n				Click to share on Facebook (Opens in new window)\n				Facebook
URL:https://gumbranch.org/event/youth-childrens-programs-50/
END:VEVENT
BEGIN:VEVENT
DTSTART;TZID=America/New_York:20251001T183000
DTEND;TZID=America/New_York:20251001T193000
DTSTAMP:20260423T053209
CREATED:20250924T183833Z
LAST-MODIFIED:20250924T183833Z
UID:3586-1759343400-1759347000@gumbranch.org
SUMMARY:Discipleship Training
DESCRIPTION:Share this:\n				Click to share on X (Opens in new window)\n				X\n			\n				Click to share on Facebook (Opens in new window)\n				Facebook
URL:https://gumbranch.org/event/discipleship-training-50/
END:VEVENT
BEGIN:VEVENT
DTSTART;TZID=America/New_York:20251001T183000
DTEND;TZID=America/New_York:20251001T193000
DTSTAMP:20260423T053209
CREATED:20250924T183751Z
LAST-MODIFIED:20250924T183751Z
UID:3585-1759343400-1759347000@gumbranch.org
SUMMARY:Adult Bible Study
DESCRIPTION:Share this:\n				Click to share on X (Opens in new window)\n				X\n			\n				Click to share on Facebook (Opens in new window)\n				Facebook
URL:https://gumbranch.org/event/adult-bible-study-66/
END:VEVENT
BEGIN:VEVENT
DTSTART;TZID=America/New_York:20251001T100000
DTEND;TZID=America/New_York:20251001T120000
DTSTAMP:20260423T053209
CREATED:20250924T183708Z
LAST-MODIFIED:20250924T184547Z
UID:3584-1759312800-1759320000@gumbranch.org
SUMMARY:Women's Bible Study
DESCRIPTION:Share this:\n				Click to share on X (Opens in new window)\n				X\n			\n				Click to share on Facebook (Opens in new window)\n				Facebook
URL:https://gumbranch.org/event/womens-bible-study-11/
END:VEVENT
BEGIN:VEVENT
DTSTART;TZID=America/New_York:20250930T063000
DTEND;TZID=America/New_York:20250930T073000
DTSTAMP:20260423T053209
CREATED:20250917T202621Z
LAST-MODIFIED:20250917T202621Z
UID:3579-1759213800-1759217400@gumbranch.org
SUMMARY:Men's Prayer Breakfast
DESCRIPTION:Share this:\n				Click to share on X (Opens in new window)\n				X\n			\n				Click to share on Facebook (Opens in new window)\n				Facebook
URL:https://gumbranch.org/event/mens-prayer-breakfast-66/
END:VEVENT
BEGIN:VEVENT
DTSTART;TZID=America/New_York:20250928T170000
DTEND;TZID=America/New_York:20250928T180000
DTSTAMP:20260423T053209
CREATED:20250917T203049Z
LAST-MODIFIED:20250917T203049Z
UID:3583-1759078800-1759082400@gumbranch.org
SUMMARY:Evening Worship
DESCRIPTION:Share this:\n				Click to share on X (Opens in new window)\n				X\n			\n				Click to share on Facebook (Opens in new window)\n				Facebook
URL:https://gumbranch.org/event/evening-worship-43/
END:VEVENT
BEGIN:VEVENT
DTSTART;TZID=America/New_York:20250928T160000
DTEND;TZID=America/New_York:20250928T170000
DTSTAMP:20260423T053209
CREATED:20250917T203016Z
LAST-MODIFIED:20250917T203016Z
UID:3582-1759075200-1759078800@gumbranch.org
SUMMARY:Choir Rehearsal
DESCRIPTION:Share this:\n				Click to share on X (Opens in new window)\n				X\n			\n				Click to share on Facebook (Opens in new window)\n				Facebook
URL:https://gumbranch.org/event/choir-rehearsal-59/
END:VEVENT
END:VCALENDAR