BEGIN:VCALENDAR
VERSION:2.0
PRODID:-//Gum Branch Baptist Church - ECPv6.15.1//NONSGML v1.0//EN
CALSCALE:GREGORIAN
METHOD:PUBLISH
X-WR-CALNAME:Gum Branch Baptist Church
X-ORIGINAL-URL:https://gumbranch.org
X-WR-CALDESC:Events for Gum Branch Baptist Church
REFRESH-INTERVAL;VALUE=DURATION:PT1H
X-Robots-Tag:noindex
X-PUBLISHED-TTL:PT1H
BEGIN:VTIMEZONE
TZID:America/New_York
BEGIN:DAYLIGHT
TZOFFSETFROM:-0500
TZOFFSETTO:-0400
TZNAME:EDT
DTSTART:20250309T070000
END:DAYLIGHT
BEGIN:STANDARD
TZOFFSETFROM:-0400
TZOFFSETTO:-0500
TZNAME:EST
DTSTART:20251102T060000
END:STANDARD
END:VTIMEZONE
BEGIN:VEVENT
DTSTART;TZID=America/New_York:20250730T183000
DTEND;TZID=America/New_York:20250730T193000
DTSTAMP:20260424T122433
CREATED:20250626T194022Z
LAST-MODIFIED:20250626T194022Z
UID:3501-1753900200-1753903800@gumbranch.org
SUMMARY:Adult Bible Study
DESCRIPTION:Share this:\n				Click to share on X (Opens in new window)\n				X\n			\n				Click to share on Facebook (Opens in new window)\n				Facebook
URL:https://gumbranch.org/event/adult-bible-study-59/
END:VEVENT
BEGIN:VEVENT
DTSTART;TZID=America/New_York:20250729T063000
DTEND;TZID=America/New_York:20250729T073000
DTSTAMP:20260424T122433
CREATED:20250626T193819Z
LAST-MODIFIED:20250626T193819Z
UID:3499-1753770600-1753774200@gumbranch.org
SUMMARY:Men's Prayer Breakfast
DESCRIPTION:Share this:\n				Click to share on X (Opens in new window)\n				X\n			\n				Click to share on Facebook (Opens in new window)\n				Facebook
URL:https://gumbranch.org/event/mens-prayer-breakfast-60/
END:VEVENT
BEGIN:VEVENT
DTSTART;TZID=America/New_York:20250727T170000
DTEND;TZID=America/New_York:20250727T180000
DTSTAMP:20260424T122433
CREATED:20250626T193734Z
LAST-MODIFIED:20250626T193734Z
UID:3498-1753635600-1753639200@gumbranch.org
SUMMARY:Evening Worship
DESCRIPTION:Share this:\n				Click to share on X (Opens in new window)\n				X\n			\n				Click to share on Facebook (Opens in new window)\n				Facebook
URL:https://gumbranch.org/event/evening-worship-36/
END:VEVENT
BEGIN:VEVENT
DTSTART;TZID=America/New_York:20250727T160000
DTEND;TZID=America/New_York:20250727T170000
DTSTAMP:20260424T122433
CREATED:20250626T193556Z
LAST-MODIFIED:20250626T193556Z
UID:3496-1753632000-1753635600@gumbranch.org
SUMMARY:Choir Rehearsal
DESCRIPTION:Share this:\n				Click to share on X (Opens in new window)\n				X\n			\n				Click to share on Facebook (Opens in new window)\n				Facebook
URL:https://gumbranch.org/event/choir-rehearsal-58/
END:VEVENT
BEGIN:VEVENT
DTSTART;TZID=America/New_York:20250727T101500
DTEND;TZID=America/New_York:20250727T113000
DTSTAMP:20260424T122433
CREATED:20250626T193525Z
LAST-MODIFIED:20250626T193525Z
UID:3495-1753611300-1753615800@gumbranch.org
SUMMARY:Morning Worship
DESCRIPTION:Share this:\n				Click to share on X (Opens in new window)\n				X\n			\n				Click to share on Facebook (Opens in new window)\n				Facebook
URL:https://gumbranch.org/event/morning-worship-64/
END:VEVENT
BEGIN:VEVENT
DTSTART;TZID=America/New_York:20250727T090000
DTEND;TZID=America/New_York:20250727T100000
DTSTAMP:20260424T122433
CREATED:20250626T193417Z
LAST-MODIFIED:20250626T193417Z
UID:3494-1753606800-1753610400@gumbranch.org
SUMMARY:Bible Study
DESCRIPTION:Share this:\n				Click to share on X (Opens in new window)\n				X\n			\n				Click to share on Facebook (Opens in new window)\n				Facebook
URL:https://gumbranch.org/event/bible-study-65/
END:VEVENT
BEGIN:VEVENT
DTSTART;TZID=America/New_York:20250726T080000
DTEND;TZID=America/New_York:20250726T090000
DTSTAMP:20260424T122433
CREATED:20250626T193252Z
LAST-MODIFIED:20250626T193252Z
UID:3493-1753516800-1753520400@gumbranch.org
SUMMARY:Men's Fellowship Breakfast
DESCRIPTION:Share this:\n				Click to share on X (Opens in new window)\n				X\n			\n				Click to share on Facebook (Opens in new window)\n				Facebook
URL:https://gumbranch.org/event/mens-fellowship-breakfast/
END:VEVENT
BEGIN:VEVENT
DTSTART;TZID=America/New_York:20250723T183000
DTEND;TZID=America/New_York:20250723T193000
DTSTAMP:20260424T122433
CREATED:20250626T193140Z
LAST-MODIFIED:20250626T193140Z
UID:3492-1753295400-1753299000@gumbranch.org
SUMMARY:Youth & Children's Programs
DESCRIPTION:Share this:\n				Click to share on X (Opens in new window)\n				X\n			\n				Click to share on Facebook (Opens in new window)\n				Facebook
URL:https://gumbranch.org/event/youth-childrens-programs-42/
END:VEVENT
BEGIN:VEVENT
DTSTART;TZID=America/New_York:20250723T183000
DTEND;TZID=America/New_York:20250723T193000
DTSTAMP:20260424T122433
CREATED:20250626T193047Z
LAST-MODIFIED:20250626T193047Z
UID:3491-1753295400-1753299000@gumbranch.org
SUMMARY:Discipleship Training
DESCRIPTION:Share this:\n				Click to share on X (Opens in new window)\n				X\n			\n				Click to share on Facebook (Opens in new window)\n				Facebook
URL:https://gumbranch.org/event/discipleship-training-42/
END:VEVENT
BEGIN:VEVENT
DTSTART;TZID=America/New_York:20250723T183000
DTEND;TZID=America/New_York:20250723T193000
DTSTAMP:20260424T122433
CREATED:20250626T193008Z
LAST-MODIFIED:20250626T193008Z
UID:3490-1753295400-1753299000@gumbranch.org
SUMMARY:Adult Bible Study
DESCRIPTION:Share this:\n				Click to share on X (Opens in new window)\n				X\n			\n				Click to share on Facebook (Opens in new window)\n				Facebook
URL:https://gumbranch.org/event/adult-bible-study-58/
END:VEVENT
BEGIN:VEVENT
DTSTART;TZID=America/New_York:20250722T090000
DTEND;TZID=America/New_York:20250722T110000
DTSTAMP:20260424T122433
CREATED:20250626T192919Z
LAST-MODIFIED:20250626T192919Z
UID:3489-1753174800-1753182000@gumbranch.org
SUMMARY:Mother's Ministry
DESCRIPTION:Share this:\n				Click to share on X (Opens in new window)\n				X\n			\n				Click to share on Facebook (Opens in new window)\n				Facebook
URL:https://gumbranch.org/event/mothers-ministry-30/
END:VEVENT
BEGIN:VEVENT
DTSTART;TZID=America/New_York:20250722T063000
DTEND;TZID=America/New_York:20250722T073000
DTSTAMP:20260424T122433
CREATED:20250626T192836Z
LAST-MODIFIED:20250626T192836Z
UID:3488-1753165800-1753169400@gumbranch.org
SUMMARY:Men's Prayer Breakfast
DESCRIPTION:Share this:\n				Click to share on X (Opens in new window)\n				X\n			\n				Click to share on Facebook (Opens in new window)\n				Facebook
URL:https://gumbranch.org/event/mens-prayer-breakfast-59/
END:VEVENT
BEGIN:VEVENT
DTSTART;TZID=America/New_York:20250720T174500
DTEND;TZID=America/New_York:20250720T180000
DTSTAMP:20260424T122433
CREATED:20250626T192740Z
LAST-MODIFIED:20250626T192740Z
UID:3487-1753033500-1753034400@gumbranch.org
SUMMARY:Observance of the Lord's Supper
DESCRIPTION:Share this:\n				Click to share on X (Opens in new window)\n				X\n			\n				Click to share on Facebook (Opens in new window)\n				Facebook
URL:https://gumbranch.org/event/observance-of-the-lords-supper-13/
END:VEVENT
BEGIN:VEVENT
DTSTART;TZID=America/New_York:20250720T170000
DTEND;TZID=America/New_York:20250720T180000
DTSTAMP:20260424T122433
CREATED:20250626T192536Z
LAST-MODIFIED:20250626T192536Z
UID:3486-1753030800-1753034400@gumbranch.org
SUMMARY:Evening Worship
DESCRIPTION:Share this:\n				Click to share on X (Opens in new window)\n				X\n			\n				Click to share on Facebook (Opens in new window)\n				Facebook
URL:https://gumbranch.org/event/evening-worship-35/
END:VEVENT
BEGIN:VEVENT
DTSTART;TZID=America/New_York:20250720T160000
DTEND;TZID=America/New_York:20250720T170000
DTSTAMP:20260424T122433
CREATED:20250626T192427Z
LAST-MODIFIED:20250626T192427Z
UID:3485-1753027200-1753030800@gumbranch.org
SUMMARY:Choir Rehearsal
DESCRIPTION:Share this:\n				Click to share on X (Opens in new window)\n				X\n			\n				Click to share on Facebook (Opens in new window)\n				Facebook
URL:https://gumbranch.org/event/choir-rehearsal-57/
END:VEVENT
BEGIN:VEVENT
DTSTART;TZID=America/New_York:20250720T101500
DTEND;TZID=America/New_York:20250720T113000
DTSTAMP:20260424T122433
CREATED:20250626T192342Z
LAST-MODIFIED:20250626T194905Z
UID:3484-1753006500-1753011000@gumbranch.org
SUMMARY:Morning Worship
DESCRIPTION:Share this:\n				Click to share on X (Opens in new window)\n				X\n			\n				Click to share on Facebook (Opens in new window)\n				Facebook
URL:https://gumbranch.org/event/morning-worship-63/
END:VEVENT
BEGIN:VEVENT
DTSTART;TZID=America/New_York:20250720T090000
DTEND;TZID=America/New_York:20250720T100000
DTSTAMP:20260424T122433
CREATED:20250626T192304Z
LAST-MODIFIED:20250626T192304Z
UID:3483-1753002000-1753005600@gumbranch.org
SUMMARY:Bible Study
DESCRIPTION:Share this:\n				Click to share on X (Opens in new window)\n				X\n			\n				Click to share on Facebook (Opens in new window)\n				Facebook
URL:https://gumbranch.org/event/bible-study-64/
END:VEVENT
BEGIN:VEVENT
DTSTART;TZID=America/New_York:20250719T090000
DTEND;TZID=America/New_York:20250719T110000
DTSTAMP:20260424T122433
CREATED:20250626T192224Z
LAST-MODIFIED:20250626T192224Z
UID:3482-1752915600-1752922800@gumbranch.org
SUMMARY:Food Give-Out
DESCRIPTION:Share this:\n				Click to share on X (Opens in new window)\n				X\n			\n				Click to share on Facebook (Opens in new window)\n				Facebook
URL:https://gumbranch.org/event/food-give-out-13/
END:VEVENT
BEGIN:VEVENT
DTSTART;TZID=America/New_York:20250716T183000
DTEND;TZID=America/New_York:20250716T193000
DTSTAMP:20260424T122433
CREATED:20250626T192137Z
LAST-MODIFIED:20250626T192137Z
UID:3481-1752690600-1752694200@gumbranch.org
SUMMARY:Youth & Children's Programs
DESCRIPTION:Share this:\n				Click to share on X (Opens in new window)\n				X\n			\n				Click to share on Facebook (Opens in new window)\n				Facebook
URL:https://gumbranch.org/event/youth-childrens-programs-41/
END:VEVENT
BEGIN:VEVENT
DTSTART;TZID=America/New_York:20250716T183000
DTEND;TZID=America/New_York:20250716T193000
DTSTAMP:20260424T122433
CREATED:20250626T192043Z
LAST-MODIFIED:20250626T192043Z
UID:3480-1752690600-1752694200@gumbranch.org
SUMMARY:Discipleship Training
DESCRIPTION:Share this:\n				Click to share on X (Opens in new window)\n				X\n			\n				Click to share on Facebook (Opens in new window)\n				Facebook
URL:https://gumbranch.org/event/discipleship-training-41/
END:VEVENT
BEGIN:VEVENT
DTSTART;TZID=America/New_York:20250716T183000
DTEND;TZID=America/New_York:20250716T193000
DTSTAMP:20260424T122433
CREATED:20250626T191821Z
LAST-MODIFIED:20250626T191821Z
UID:3478-1752690600-1752694200@gumbranch.org
SUMMARY:Adult Bible Study
DESCRIPTION:Share this:\n				Click to share on X (Opens in new window)\n				X\n			\n				Click to share on Facebook (Opens in new window)\n				Facebook
URL:https://gumbranch.org/event/adult-bible-study-57/
END:VEVENT
BEGIN:VEVENT
DTSTART;TZID=America/New_York:20250715T183000
DTEND;TZID=America/New_York:20250715T193000
DTSTAMP:20260424T122433
CREATED:20250626T193908Z
LAST-MODIFIED:20250709T192444Z
UID:3500-1752604200-1752607800@gumbranch.org
SUMMARY:Deacon's Meeting
DESCRIPTION:Share this:\n				Click to share on X (Opens in new window)\n				X\n			\n				Click to share on Facebook (Opens in new window)\n				Facebook
URL:https://gumbranch.org/event/deacons-meeting-6/
END:VEVENT
BEGIN:VEVENT
DTSTART;TZID=America/New_York:20250715T063000
DTEND;TZID=America/New_York:20250715T073000
DTSTAMP:20260424T122433
CREATED:20250626T191533Z
LAST-MODIFIED:20250626T191533Z
UID:3477-1752561000-1752564600@gumbranch.org
SUMMARY:Men's Prayer Breakfast
DESCRIPTION:Share this:\n				Click to share on X (Opens in new window)\n				X\n			\n				Click to share on Facebook (Opens in new window)\n				Facebook
URL:https://gumbranch.org/event/mens-prayer-breakfast-58/
END:VEVENT
BEGIN:VEVENT
DTSTART;TZID=America/New_York:20250713T170000
DTEND;TZID=America/New_York:20250713T180000
DTSTAMP:20260424T122433
CREATED:20250626T191356Z
LAST-MODIFIED:20250626T191356Z
UID:3476-1752426000-1752429600@gumbranch.org
SUMMARY:Evening Worship
DESCRIPTION:Share this:\n				Click to share on X (Opens in new window)\n				X\n			\n				Click to share on Facebook (Opens in new window)\n				Facebook
URL:https://gumbranch.org/event/evening-worship-34/
END:VEVENT
BEGIN:VEVENT
DTSTART;TZID=America/New_York:20250713T160000
DTEND;TZID=America/New_York:20250713T170000
DTSTAMP:20260424T122433
CREATED:20250626T191320Z
LAST-MODIFIED:20250626T191320Z
UID:3475-1752422400-1752426000@gumbranch.org
SUMMARY:Choir Rehearsal
DESCRIPTION:Share this:\n				Click to share on X (Opens in new window)\n				X\n			\n				Click to share on Facebook (Opens in new window)\n				Facebook
URL:https://gumbranch.org/event/choir-rehearsal-56/
END:VEVENT
BEGIN:VEVENT
DTSTART;TZID=America/New_York:20250713T101500
DTEND;TZID=America/New_York:20250713T113000
DTSTAMP:20260424T122433
CREATED:20250626T191203Z
LAST-MODIFIED:20250626T191203Z
UID:3473-1752401700-1752406200@gumbranch.org
SUMMARY:Morning Worship
DESCRIPTION:Share this:\n				Click to share on X (Opens in new window)\n				X\n			\n				Click to share on Facebook (Opens in new window)\n				Facebook
URL:https://gumbranch.org/event/morning-worship-62/
END:VEVENT
BEGIN:VEVENT
DTSTART;TZID=America/New_York:20250713T090000
DTEND;TZID=America/New_York:20250713T100000
DTSTAMP:20260424T122433
CREATED:20250626T191119Z
LAST-MODIFIED:20250626T191119Z
UID:3472-1752397200-1752400800@gumbranch.org
SUMMARY:Bible Study
DESCRIPTION:Share this:\n				Click to share on X (Opens in new window)\n				X\n			\n				Click to share on Facebook (Opens in new window)\n				Facebook
URL:https://gumbranch.org/event/bible-study-63/
END:VEVENT
BEGIN:VEVENT
DTSTART;TZID=America/New_York:20250711T183000
DTEND;TZID=America/New_York:20250711T193000
DTSTAMP:20260424T122433
CREATED:20250626T190736Z
LAST-MODIFIED:20250626T190736Z
UID:3471-1752258600-1752262200@gumbranch.org
SUMMARY:Ladies Craft Night
DESCRIPTION:Share this:\n				Click to share on X (Opens in new window)\n				X\n			\n				Click to share on Facebook (Opens in new window)\n				Facebook
URL:https://gumbranch.org/event/ladies-craft-night-16/
END:VEVENT
BEGIN:VEVENT
DTSTART;TZID=America/New_York:20250709T183000
DTEND;TZID=America/New_York:20250709T193000
DTSTAMP:20260424T122433
CREATED:20250626T190649Z
LAST-MODIFIED:20250626T190649Z
UID:3470-1752085800-1752089400@gumbranch.org
SUMMARY:Youth & Children's Programs
DESCRIPTION:Share this:\n				Click to share on X (Opens in new window)\n				X\n			\n				Click to share on Facebook (Opens in new window)\n				Facebook
URL:https://gumbranch.org/event/youth-childrens-programs-40/
END:VEVENT
BEGIN:VEVENT
DTSTART;TZID=America/New_York:20250709T183000
DTEND;TZID=America/New_York:20250709T193000
DTSTAMP:20260424T122433
CREATED:20250626T190528Z
LAST-MODIFIED:20250626T190528Z
UID:3469-1752085800-1752089400@gumbranch.org
SUMMARY:Discipleship Training
DESCRIPTION:Share this:\n				Click to share on X (Opens in new window)\n				X\n			\n				Click to share on Facebook (Opens in new window)\n				Facebook
URL:https://gumbranch.org/event/discipleship-training-40/
END:VEVENT
END:VCALENDAR