BEGIN:VCALENDAR
VERSION:2.0
PRODID:-//Gum Branch Baptist Church - ECPv6.15.1//NONSGML v1.0//EN
CALSCALE:GREGORIAN
METHOD:PUBLISH
X-ORIGINAL-URL:https://gumbranch.org
X-WR-CALDESC:Events for Gum Branch Baptist Church
REFRESH-INTERVAL;VALUE=DURATION:PT1H
X-Robots-Tag:noindex
X-PUBLISHED-TTL:PT1H
BEGIN:VTIMEZONE
TZID:America/New_York
BEGIN:DAYLIGHT
TZOFFSETFROM:-0500
TZOFFSETTO:-0400
TZNAME:EDT
DTSTART:20260308T070000
END:DAYLIGHT
BEGIN:STANDARD
TZOFFSETFROM:-0400
TZOFFSETTO:-0500
TZNAME:EST
DTSTART:20261101T060000
END:STANDARD
END:VTIMEZONE
BEGIN:VEVENT
DTSTART;TZID=America/New_York:20260325T100000
DTEND;TZID=America/New_York:20260325T120000
DTSTAMP:20260421T134150
CREATED:20260225T200827Z
LAST-MODIFIED:20260225T200827Z
UID:3862-1774432800-1774440000@gumbranch.org
SUMMARY:Ladies Bible Study
DESCRIPTION:Share this:\n				Click to share on X (Opens in new window)\n				X\n			\n				Click to share on Facebook (Opens in new window)\n				Facebook
URL:https://gumbranch.org/event/ladies-bible-study-32/
END:VEVENT
BEGIN:VEVENT
DTSTART;TZID=America/New_York:20260325T173000
DTEND;TZID=America/New_York:20260325T182000
DTSTAMP:20260421T134150
CREATED:20260225T200931Z
LAST-MODIFIED:20260225T200931Z
UID:3863-1774459800-1774462800@gumbranch.org
SUMMARY:Wednesday Meal
DESCRIPTION:Share this:\n				Click to share on X (Opens in new window)\n				X\n			\n				Click to share on Facebook (Opens in new window)\n				Facebook
URL:https://gumbranch.org/event/wednesday-meal-31/
END:VEVENT
BEGIN:VEVENT
DTSTART;TZID=America/New_York:20260325T183000
DTEND;TZID=America/New_York:20260325T193000
DTSTAMP:20260421T134150
CREATED:20260225T201012Z
LAST-MODIFIED:20260225T201012Z
UID:3864-1774463400-1774467000@gumbranch.org
SUMMARY:Adult Bible Study
DESCRIPTION:Share this:\n				Click to share on X (Opens in new window)\n				X\n			\n				Click to share on Facebook (Opens in new window)\n				Facebook
URL:https://gumbranch.org/event/adult-bible-study-88/
END:VEVENT
BEGIN:VEVENT
DTSTART;TZID=America/New_York:20260325T183000
DTEND;TZID=America/New_York:20260325T193000
DTSTAMP:20260421T134150
CREATED:20260225T201052Z
LAST-MODIFIED:20260225T201052Z
UID:3865-1774463400-1774467000@gumbranch.org
SUMMARY:Discipleship Training
DESCRIPTION:Share this:\n				Click to share on X (Opens in new window)\n				X\n			\n				Click to share on Facebook (Opens in new window)\n				Facebook
URL:https://gumbranch.org/event/discipleship-training-72/
END:VEVENT
BEGIN:VEVENT
DTSTART;TZID=America/New_York:20260325T183000
DTEND;TZID=America/New_York:20260325T193000
DTSTAMP:20260421T134150
CREATED:20260225T201135Z
LAST-MODIFIED:20260225T201135Z
UID:3866-1774463400-1774467000@gumbranch.org
SUMMARY:Youth & Children's Programs
DESCRIPTION:Share this:\n				Click to share on X (Opens in new window)\n				X\n			\n				Click to share on Facebook (Opens in new window)\n				Facebook
URL:https://gumbranch.org/event/youth-childrens-programs-71/
END:VEVENT
END:VCALENDAR