BEGIN:VCALENDAR
VERSION:2.0
PRODID:-//Gum Branch Baptist Church - ECPv6.15.1//NONSGML v1.0//EN
CALSCALE:GREGORIAN
METHOD:PUBLISH
X-ORIGINAL-URL:https://gumbranch.org
X-WR-CALDESC:Events for Gum Branch Baptist Church
REFRESH-INTERVAL;VALUE=DURATION:PT1H
X-Robots-Tag:noindex
X-PUBLISHED-TTL:PT1H
BEGIN:VTIMEZONE
TZID:America/New_York
BEGIN:DAYLIGHT
TZOFFSETFROM:-0500
TZOFFSETTO:-0400
TZNAME:EDT
DTSTART:20260308T070000
END:DAYLIGHT
BEGIN:STANDARD
TZOFFSETFROM:-0400
TZOFFSETTO:-0500
TZNAME:EST
DTSTART:20261101T060000
END:STANDARD
END:VTIMEZONE
BEGIN:VEVENT
DTSTART;TZID=America/New_York:20260215T090000
DTEND;TZID=America/New_York:20260215T100000
DTSTAMP:20260421T171155
CREATED:20260204T201328Z
LAST-MODIFIED:20260204T201328Z
UID:3795-1771146000-1771149600@gumbranch.org
SUMMARY:Bible Study
DESCRIPTION:Share this:\n				Click to share on X (Opens in new window)\n				X\n			\n				Click to share on Facebook (Opens in new window)\n				Facebook
URL:https://gumbranch.org/event/bible-study-91/
END:VEVENT
BEGIN:VEVENT
DTSTART;TZID=America/New_York:20260215T101500
DTEND;TZID=America/New_York:20260215T113000
DTSTAMP:20260421T171155
CREATED:20260204T201408Z
LAST-MODIFIED:20260204T201408Z
UID:3796-1771150500-1771155000@gumbranch.org
SUMMARY:Morning Worship
DESCRIPTION:Share this:\n				Click to share on X (Opens in new window)\n				X\n			\n				Click to share on Facebook (Opens in new window)\n				Facebook
URL:https://gumbranch.org/event/morning-worship-89/
END:VEVENT
BEGIN:VEVENT
DTSTART;TZID=America/New_York:20260215T160000
DTEND;TZID=America/New_York:20260215T170000
DTSTAMP:20260421T171155
CREATED:20260204T201451Z
LAST-MODIFIED:20260204T201451Z
UID:3797-1771171200-1771174800@gumbranch.org
SUMMARY:Choir Rehearsal
DESCRIPTION:Share this:\n				Click to share on X (Opens in new window)\n				X\n			\n				Click to share on Facebook (Opens in new window)\n				Facebook
URL:https://gumbranch.org/event/choir-rehearsal-72/
END:VEVENT
BEGIN:VEVENT
DTSTART;TZID=America/New_York:20260215T170000
DTEND;TZID=America/New_York:20260215T180000
DTSTAMP:20260421T171155
CREATED:20260204T201531Z
LAST-MODIFIED:20260204T201531Z
UID:3798-1771174800-1771178400@gumbranch.org
SUMMARY:Evening Worship
DESCRIPTION:Share this:\n				Click to share on X (Opens in new window)\n				X\n			\n				Click to share on Facebook (Opens in new window)\n				Facebook
URL:https://gumbranch.org/event/evening-worship-50/
END:VEVENT
BEGIN:VEVENT
DTSTART;TZID=America/New_York:20260215T174500
DTEND;TZID=America/New_York:20260215T180000
DTSTAMP:20260421T171155
CREATED:20260204T201638Z
LAST-MODIFIED:20260204T201638Z
UID:3799-1771177500-1771178400@gumbranch.org
SUMMARY:Observance of the Lord's Supper
DESCRIPTION:Share this:\n				Click to share on X (Opens in new window)\n				X\n			\n				Click to share on Facebook (Opens in new window)\n				Facebook
URL:https://gumbranch.org/event/observance-of-the-lords-supper-19/
END:VEVENT
END:VCALENDAR