BEGIN:VCALENDAR
VERSION:2.0
PRODID:-//Gum Branch Baptist Church - ECPv6.15.1//NONSGML v1.0//EN
CALSCALE:GREGORIAN
METHOD:PUBLISH
X-ORIGINAL-URL:https://gumbranch.org
X-WR-CALDESC:Events for Gum Branch Baptist Church
REFRESH-INTERVAL;VALUE=DURATION:PT1H
X-Robots-Tag:noindex
X-PUBLISHED-TTL:PT1H
BEGIN:VTIMEZONE
TZID:America/New_York
BEGIN:DAYLIGHT
TZOFFSETFROM:-0500
TZOFFSETTO:-0400
TZNAME:EDT
DTSTART:20250309T070000
END:DAYLIGHT
BEGIN:STANDARD
TZOFFSETFROM:-0400
TZOFFSETTO:-0500
TZNAME:EST
DTSTART:20251102T060000
END:STANDARD
END:VTIMEZONE
BEGIN:VEVENT
DTSTART;TZID=America/New_York:20251005T090000
DTEND;TZID=America/New_York:20251005T100000
DTSTAMP:20260423T163149
CREATED:20250924T184137Z
LAST-MODIFIED:20250924T184137Z
UID:3588-1759654800-1759658400@gumbranch.org
SUMMARY:Bible Study
DESCRIPTION:Share this:\n				Click to share on X (Opens in new window)\n				X\n			\n				Click to share on Facebook (Opens in new window)\n				Facebook
URL:https://gumbranch.org/event/bible-study-74/
END:VEVENT
BEGIN:VEVENT
DTSTART;TZID=America/New_York:20251005T101500
DTEND;TZID=America/New_York:20251005T113000
DTSTAMP:20260423T163149
CREATED:20250924T184219Z
LAST-MODIFIED:20250924T184219Z
UID:3589-1759659300-1759663800@gumbranch.org
SUMMARY:Morning Worship
DESCRIPTION:Share this:\n				Click to share on X (Opens in new window)\n				X\n			\n				Click to share on Facebook (Opens in new window)\n				Facebook
URL:https://gumbranch.org/event/morning-worship-72/
END:VEVENT
BEGIN:VEVENT
DTSTART;TZID=America/New_York:20251005T160000
DTEND;TZID=America/New_York:20251005T170000
DTSTAMP:20260423T163149
CREATED:20250924T184254Z
LAST-MODIFIED:20250924T184254Z
UID:3590-1759680000-1759683600@gumbranch.org
SUMMARY:Choir Rehearsal
DESCRIPTION:Share this:\n				Click to share on X (Opens in new window)\n				X\n			\n				Click to share on Facebook (Opens in new window)\n				Facebook
URL:https://gumbranch.org/event/choir-rehearsal-60/
END:VEVENT
BEGIN:VEVENT
DTSTART;TZID=America/New_York:20251005T170000
DTEND;TZID=America/New_York:20251005T180000
DTSTAMP:20260423T163149
CREATED:20250924T184325Z
LAST-MODIFIED:20250924T184325Z
UID:3591-1759683600-1759687200@gumbranch.org
SUMMARY:Evening Worship
DESCRIPTION:Share this:\n				Click to share on X (Opens in new window)\n				X\n			\n				Click to share on Facebook (Opens in new window)\n				Facebook
URL:https://gumbranch.org/event/evening-worship-44/
END:VEVENT
END:VCALENDAR