BEGIN:VCALENDAR
VERSION:2.0
PRODID:-//Gum Branch Baptist Church - ECPv6.15.1//NONSGML v1.0//EN
CALSCALE:GREGORIAN
METHOD:PUBLISH
X-ORIGINAL-URL:https://gumbranch.org
X-WR-CALDESC:Events for Gum Branch Baptist Church
REFRESH-INTERVAL;VALUE=DURATION:PT1H
X-Robots-Tag:noindex
X-PUBLISHED-TTL:PT1H
BEGIN:VTIMEZONE
TZID:America/New_York
BEGIN:DAYLIGHT
TZOFFSETFROM:-0500
TZOFFSETTO:-0400
TZNAME:EDT
DTSTART:20250309T070000
END:DAYLIGHT
BEGIN:STANDARD
TZOFFSETFROM:-0400
TZOFFSETTO:-0500
TZNAME:EST
DTSTART:20251102T060000
END:STANDARD
END:VTIMEZONE
BEGIN:VEVENT
DTSTART;TZID=America/New_York:20250928T090000
DTEND;TZID=America/New_York:20250928T100000
DTSTAMP:20260425T085647
CREATED:20250917T202909Z
LAST-MODIFIED:20250917T202909Z
UID:3581-1759050000-1759053600@gumbranch.org
SUMMARY:Bible Study
DESCRIPTION:Share this:\n				Click to share on X (Opens in new window)\n				X\n			\n				Click to share on Facebook (Opens in new window)\n				Facebook
URL:https://gumbranch.org/event/bible-study-73/
END:VEVENT
BEGIN:VEVENT
DTSTART;TZID=America/New_York:20250928T160000
DTEND;TZID=America/New_York:20250928T170000
DTSTAMP:20260425T085647
CREATED:20250917T203016Z
LAST-MODIFIED:20250917T203016Z
UID:3582-1759075200-1759078800@gumbranch.org
SUMMARY:Choir Rehearsal
DESCRIPTION:Share this:\n				Click to share on X (Opens in new window)\n				X\n			\n				Click to share on Facebook (Opens in new window)\n				Facebook
URL:https://gumbranch.org/event/choir-rehearsal-59/
END:VEVENT
BEGIN:VEVENT
DTSTART;TZID=America/New_York:20250928T170000
DTEND;TZID=America/New_York:20250928T180000
DTSTAMP:20260425T085647
CREATED:20250917T203049Z
LAST-MODIFIED:20250917T203049Z
UID:3583-1759078800-1759082400@gumbranch.org
SUMMARY:Evening Worship
DESCRIPTION:Share this:\n				Click to share on X (Opens in new window)\n				X\n			\n				Click to share on Facebook (Opens in new window)\n				Facebook
URL:https://gumbranch.org/event/evening-worship-43/
END:VEVENT
END:VCALENDAR